BEGIN:VCALENDAR
VERSION:2.0
PRODID:-//Gallium Ventures - ECPv6.15.20//NONSGML v1.0//EN
CALSCALE:GREGORIAN
METHOD:PUBLISH
X-ORIGINAL-URL:https://galliumventures.com
X-WR-CALDESC:Events for Gallium Ventures
REFRESH-INTERVAL;VALUE=DURATION:PT1H
X-Robots-Tag:noindex
X-PUBLISHED-TTL:PT1H
BEGIN:VTIMEZONE
TZID:Africa/Abidjan
BEGIN:STANDARD
TZOFFSETFROM:+0000
TZOFFSETTO:+0000
TZNAME:GMT
DTSTART:20220101T000000
END:STANDARD
END:VTIMEZONE
BEGIN:VEVENT
DTSTART;VALUE=DATE:20231127
DTEND;VALUE=DATE:20231202
DTSTAMP:20260420T133041
CREATED:20230530T114253Z
LAST-MODIFIED:20230530T120747Z
UID:224703-1701043200-1701475199@galliumventures.com
SUMMARY:AWS re:Invent 2023
DESCRIPTION:Amazon Web Services (AWS) presents a learning conference catered for the global cloud computing community.
URL:https://galliumventures.com/event/aws-reinvent-2023/
LOCATION:The Venetian\, Las Vegas\, NV\, United States
END:VEVENT
BEGIN:VEVENT
DTSTART;VALUE=DATE:20231130
DTEND;VALUE=DATE:20231202
DTSTAMP:20260420T133041
CREATED:20230530T114255Z
LAST-MODIFIED:20230530T120823Z
UID:224704-1701302400-1701475199@galliumventures.com
SUMMARY:Slush 2023
DESCRIPTION:Slush presents the opportunity for tech startup founders from across the world to expand their networks and showcase their offerings to press and potential investors. Speakers are set to include Finland Prime Minister Sanna Marin\, Stripe co-founder John Collison\, and Tinder CEO Renate Nyborg.
URL:https://galliumventures.com/event/slush-2023/
LOCATION:Helsinki Expo and Convention Center\, Finland
END:VEVENT
BEGIN:VEVENT
DTSTART;VALUE=DATE:20231201
DTEND;VALUE=DATE:20231202
DTSTAMP:20260420T133041
CREATED:20230530T114256Z
LAST-MODIFIED:20230530T120855Z
UID:224705-1701388800-1701475199@galliumventures.com
SUMMARY:Startup World Cup Competition 2023
DESCRIPTION:Startup World Cup will have 50+ regional events across North America\, South America\, Europe\, Africa\, Asia\, and Australia. Each regional winner will compete in Silicon Valley for the final competition in San Francisco on December 1\, 2023 at Hilton Union Square\, San Francisco.
URL:https://galliumventures.com/event/startup-world-cup-competition-2023/
LOCATION:San Francisco\, San Francisco\, CA\, United States
END:VEVENT
BEGIN:VEVENT
DTSTART;VALUE=DATE:20231206
DTEND;VALUE=DATE:20231208
DTSTAMP:20260420T133041
CREATED:20230530T114302Z
LAST-MODIFIED:20230530T120907Z
UID:224706-1701820800-1701993599@galliumventures.com
SUMMARY:FinTech Connect 2023
DESCRIPTION:Join FinTech leaders from the FinTech ecosystem for two content packed days where you can hear from and meet global leaders in digital transformation\, payments\, blockchain and regtech who are driving the global financial technology industry forwards\, all under one roof.
URL:https://galliumventures.com/event/fintech-connect-2023/
LOCATION:ExCel London\, Royal Victoria Dock\, London\, United Kingdom
END:VEVENT
END:VCALENDAR