BEGIN:VCALENDAR
VERSION:2.0
PRODID:-//Gallium Ventures - ECPv6.15.20//NONSGML v1.0//EN
CALSCALE:GREGORIAN
METHOD:PUBLISH
X-ORIGINAL-URL:https://galliumventures.com
X-WR-CALDESC:Events for Gallium Ventures
REFRESH-INTERVAL;VALUE=DURATION:PT1H
X-Robots-Tag:noindex
X-PUBLISHED-TTL:PT1H
BEGIN:VTIMEZONE
TZID:Africa/Abidjan
BEGIN:STANDARD
TZOFFSETFROM:+0000
TZOFFSETTO:+0000
TZNAME:GMT
DTSTART:20220101T000000
END:STANDARD
END:VTIMEZONE
BEGIN:VTIMEZONE
TZID:Europe/London
BEGIN:DAYLIGHT
TZOFFSETFROM:+0000
TZOFFSETTO:+0100
TZNAME:BST
DTSTART:20220327T010000
END:DAYLIGHT
BEGIN:STANDARD
TZOFFSETFROM:+0100
TZOFFSETTO:+0000
TZNAME:GMT
DTSTART:20221030T010000
END:STANDARD
BEGIN:DAYLIGHT
TZOFFSETFROM:+0000
TZOFFSETTO:+0100
TZNAME:BST
DTSTART:20230326T010000
END:DAYLIGHT
BEGIN:STANDARD
TZOFFSETFROM:+0100
TZOFFSETTO:+0000
TZNAME:GMT
DTSTART:20231029T010000
END:STANDARD
BEGIN:DAYLIGHT
TZOFFSETFROM:+0000
TZOFFSETTO:+0100
TZNAME:BST
DTSTART:20240331T010000
END:DAYLIGHT
BEGIN:STANDARD
TZOFFSETFROM:+0100
TZOFFSETTO:+0000
TZNAME:GMT
DTSTART:20241027T010000
END:STANDARD
END:VTIMEZONE
BEGIN:VEVENT
DTSTART;VALUE=DATE:20231101
DTEND;VALUE=DATE:20231106
DTSTAMP:20260420T145526
CREATED:20230530T114233Z
LAST-MODIFIED:20230530T120159Z
UID:224697-1698796800-1699228799@galliumventures.com
SUMMARY:AfroTech Conference 2023
DESCRIPTION:-AFROTECH™ is the largest series of multicultural tech experiences in the United States\, bringing together engineers\, venture capitalists\, recruiters\, technologists\, and culture enthusiasts from all over the world. It is the definitive conference that brings leaders in technology and business together to exchange ideas and build a strong Black tech community.
URL:https://galliumventures.com/event/afrotech-conference-2023/
LOCATION:Austin\, TX\, United States
END:VEVENT
BEGIN:VEVENT
DTSTART;VALUE=DATE:20231104
DTEND;VALUE=DATE:20231105
DTSTAMP:20260420T145526
CREATED:20230530T114231Z
LAST-MODIFIED:20230530T120257Z
UID:224696-1699056000-1699142399@galliumventures.com
SUMMARY:Wearable Technology Show 2023
DESCRIPTION:The leading event for wearables and emerging technology. Showcasing technologies across a multitude of fields including – smart home\, healthcare\, fashion\, fitness\, performance sports\, enterprise\, augmented reality\, VR and presents visionary speakers working within the industry to discuss the future of wearables\, smart technology and IOT.
URL:https://galliumventures.com/event/wearable-technology-show-2023/
LOCATION:Business Design Centre\, 52 Upper Street\, London\, United Kingdom
END:VEVENT
BEGIN:VEVENT
DTSTART;VALUE=DATE:20231106
DTEND;VALUE=DATE:20231110
DTSTAMP:20260420T145526
CREATED:20230530T114234Z
LAST-MODIFIED:20230531T152342Z
UID:224698-1699228800-1699574399@galliumventures.com
SUMMARY:VMware Explore 2023
DESCRIPTION:VMWare Explore promises to bring tech and business decision-makers to learn about innovations happening across the multi-cloud space.
URL:https://galliumventures.com/event/vmware-explore-2023-2/
LOCATION:Fira Gran Via\, Barcelona\, Spain
END:VEVENT
BEGIN:VEVENT
DTSTART;VALUE=DATE:20231113
DTEND;VALUE=DATE:20231116
DTSTAMP:20260420T145526
CREATED:20230530T114235Z
LAST-MODIFIED:20230530T120449Z
UID:224699-1699833600-1700092799@galliumventures.com
SUMMARY:World Congress on Sustainable Technologies 2023
DESCRIPTION:The 12th World Congress on Sustainable Technologies (WCST-2022) will be held online from the 6th to 8th of December\, 2022. The WCST-2022 bridging efforts across the natural\, social and engineering sciences\, the environment and development of communities. The congress covers a wide spectrum of topics that relate to sustainability\, which includes technical and non-technical research areas. It also encourages sharing new knowledge in the field of sustainable technologies and the environmental impacts. The objectives of WCST are to provide the opportunities for collaboration and reflection that have the potential to greatly enhance the infrastructure and capacity for conducting and applying art\, science and technology for sustainability.
URL:https://galliumventures.com/event/world-congress-on-sustainable-technologies-2023/
LOCATION:St Anne’s College\, Oxford\, United Kingdom
END:VEVENT
BEGIN:VEVENT
DTSTART;VALUE=DATE:20231113
DTEND;VALUE=DATE:20231117
DTSTAMP:20260420T145526
CREATED:20230530T114236Z
LAST-MODIFIED:20230530T120540Z
UID:224700-1699833600-1700179199@galliumventures.com
SUMMARY:Web Summit 2023
DESCRIPTION:Politico has said they run “the world’s premier tech conference”\, the Atlantic that Web Summit is “where the future goes to be born”\, and the New York Times that they assemble “a grand conclave of the tech industry’s high priests”.\nAt a time of great uncertainty for many industries and\, indeed\, the world itself\, we gather policymakers\, heads of state\, and the founders and CEOs of technology companies and fast-growing startups\, to ask a simple question: Where to next?
URL:https://galliumventures.com/event/web-summit-2023/
LOCATION:Lisbon\, Portugal
END:VEVENT
BEGIN:VEVENT
DTSTART;VALUE=DATE:20231115
DTEND;VALUE=DATE:20231117
DTSTAMP:20260420T145526
CREATED:20230530T114246Z
LAST-MODIFIED:20230530T114455Z
UID:224701-1700006400-1700179199@galliumventures.com
SUMMARY:Microsoft Ignite 2023
DESCRIPTION:Microsoft Ignite will allow developers and IT professionals to catch up on the latest hybrid and remote work and collaboration technology innovations.
URL:https://galliumventures.com/event/microsoft-ignite-2023/
END:VEVENT
BEGIN:VEVENT
DTSTART;VALUE=DATE:20231121
DTEND;VALUE=DATE:20231122
DTSTAMP:20260420T145526
CREATED:20230530T114223Z
LAST-MODIFIED:20230909T175951Z
UID:224695-1700524800-1700611199@galliumventures.com
SUMMARY:Wired Impact 2023
DESCRIPTION:WIRED Impact is the leading European annual event that focuses on the ideas\, technologies and trends that are shaping today’s business environment—from sustainable finance and investment to the circular economy\, warming mitigation\, the future of food\, corporate governance\, renewable energy\, future cities\, breakthrough technologies\, mobility\, adaptive environments and more—and examines the challenges and opportunities for organisations to innovate to tackle humankind’s most pressing challenge.
URL:https://galliumventures.com/event/wired-impact-2023/
LOCATION:Magazine London\, London\, SE10 0JH\, United Kingdom
END:VEVENT
BEGIN:VEVENT
DTSTART;VALUE=DATE:20231127
DTEND;VALUE=DATE:20231129
DTSTAMP:20260420T145526
CREATED:20230530T114247Z
LAST-MODIFIED:20230530T120700Z
UID:224702-1701043200-1701215999@galliumventures.com
SUMMARY:Future Tech Event 2023
DESCRIPTION:The premier B2B and B2G bespoke technology event in Oman\, the third annual Future Tech Event invites C-Level executives\, leading industry experts\, decision makers\, policy makers and government officials to network with peers across the value chain. The conference will cover how the tech industry can overcome current challenges\, create future business opportunities and develop market strategies around emerging technologies.
URL:https://galliumventures.com/event/future-tech-event-2023/
LOCATION:Oman Convention and Exhibition Centre\, Muscat\, Oman
END:VEVENT
BEGIN:VEVENT
DTSTART;VALUE=DATE:20231127
DTEND;VALUE=DATE:20231202
DTSTAMP:20260420T145526
CREATED:20230530T114253Z
LAST-MODIFIED:20230530T120747Z
UID:224703-1701043200-1701475199@galliumventures.com
SUMMARY:AWS re:Invent 2023
DESCRIPTION:Amazon Web Services (AWS) presents a learning conference catered for the global cloud computing community.
URL:https://galliumventures.com/event/aws-reinvent-2023/
LOCATION:The Venetian\, Las Vegas\, NV\, United States
END:VEVENT
BEGIN:VEVENT
DTSTART;VALUE=DATE:20231130
DTEND;VALUE=DATE:20231202
DTSTAMP:20260420T145526
CREATED:20230530T114255Z
LAST-MODIFIED:20230530T120823Z
UID:224704-1701302400-1701475199@galliumventures.com
SUMMARY:Slush 2023
DESCRIPTION:Slush presents the opportunity for tech startup founders from across the world to expand their networks and showcase their offerings to press and potential investors. Speakers are set to include Finland Prime Minister Sanna Marin\, Stripe co-founder John Collison\, and Tinder CEO Renate Nyborg.
URL:https://galliumventures.com/event/slush-2023/
LOCATION:Helsinki Expo and Convention Center\, Finland
END:VEVENT
END:VCALENDAR