BEGIN:VCALENDAR
VERSION:2.0
PRODID:-//Gallium Ventures - ECPv6.15.20//NONSGML v1.0//EN
CALSCALE:GREGORIAN
METHOD:PUBLISH
X-WR-CALNAME:Gallium Ventures
X-ORIGINAL-URL:https://galliumventures.com
X-WR-CALDESC:Events for Gallium Ventures
REFRESH-INTERVAL;VALUE=DURATION:PT1H
X-Robots-Tag:noindex
X-PUBLISHED-TTL:PT1H
BEGIN:VTIMEZONE
TZID:Europe/London
BEGIN:DAYLIGHT
TZOFFSETFROM:+0000
TZOFFSETTO:+0100
TZNAME:BST
DTSTART:20210328T010000
END:DAYLIGHT
BEGIN:STANDARD
TZOFFSETFROM:+0100
TZOFFSETTO:+0000
TZNAME:GMT
DTSTART:20211031T010000
END:STANDARD
BEGIN:DAYLIGHT
TZOFFSETFROM:+0000
TZOFFSETTO:+0100
TZNAME:BST
DTSTART:20220327T010000
END:DAYLIGHT
BEGIN:STANDARD
TZOFFSETFROM:+0100
TZOFFSETTO:+0000
TZNAME:GMT
DTSTART:20221030T010000
END:STANDARD
BEGIN:DAYLIGHT
TZOFFSETFROM:+0000
TZOFFSETTO:+0100
TZNAME:BST
DTSTART:20230326T010000
END:DAYLIGHT
BEGIN:STANDARD
TZOFFSETFROM:+0100
TZOFFSETTO:+0000
TZNAME:GMT
DTSTART:20231029T010000
END:STANDARD
BEGIN:DAYLIGHT
TZOFFSETFROM:+0000
TZOFFSETTO:+0100
TZNAME:BST
DTSTART:20240331T010000
END:DAYLIGHT
BEGIN:STANDARD
TZOFFSETFROM:+0100
TZOFFSETTO:+0000
TZNAME:GMT
DTSTART:20241027T010000
END:STANDARD
END:VTIMEZONE
BEGIN:VEVENT
DTSTART;VALUE=DATE:20230201
DTEND;VALUE=DATE:20230206
DTSTAMP:20260420T110233
CREATED:20221123T115305Z
LAST-MODIFIED:20221123T115305Z
UID:224257-1675209600-1675641599@galliumventures.com
SUMMARY:Nuremberg Toy Fair 2023
DESCRIPTION:The Nuremberg Toy Fair 2023 expects to bring excitement and The Spirit of Play to over 62 000 trade fair visitors. The product offering at Nuremberg Toy Fair features an impressive one million items including toys\, physical and video games\, lifestyle products\, hobby articles\, accessories and more. At least 150 000 items from the product preview are never-seen-before products. Over 2 700 exhibitors from all levels of the toy production industry gather at Spielwarenmesse. Visitors can meet well-known brands and innovative start-ups\, all of them contributing to setting the trends for the upcoming season. Attendees will have the fantastic opportunity to explore the Trend Gallery featuring all key future trends in the spotlight of the industry.
URL:https://galliumventures.com/event/nuremberg-toy-fair-2023/
LOCATION:Messe Nuremberg\, Nurnberg\, Germany
END:VEVENT
BEGIN:VEVENT
DTSTART;VALUE=DATE:20230130
DTEND;VALUE=DATE:20230203
DTSTAMP:20260420T110233
CREATED:20221123T122539Z
LAST-MODIFIED:20221123T122539Z
UID:224265-1675036800-1675382399@galliumventures.com
SUMMARY:iConnections Global Alts 2023
DESCRIPTION:iConnections Global Alts ’23 is where the whole industry meets. This landmark event is held annually and welcomes thousands of guests from the world’s leading allocators and funds. With an exciting agenda of speakers from investment\, finance\, politics and economics\, as well as experts from fields with something fascinating to add to the debate\, this is the one event of the year you can’t afford to miss.
URL:https://galliumventures.com/event/iconnections-global-alts-2023/
LOCATION:Fontainebleau Miami Beach\, Miami\, FL\, United States
END:VEVENT
BEGIN:VEVENT
DTSTART;VALUE=DATE:20230124
DTEND;VALUE=DATE:20230127
DTSTAMP:20260420T110233
CREATED:20221122T122550Z
LAST-MODIFIED:20221122T122550Z
UID:224240-1674518400-1674777599@galliumventures.com
SUMMARY:London Toy Fair 2023
DESCRIPTION:The Toy Fair is the UK’s largest dedicated toy\, game and hobby trade show taking place annually at the end of January at Olympia London. The toy industry’s showcase welcomes more than 260 companies exhibiting thousands of products to visitors including retailers\, buyers\, media and the wider industry.
URL:https://galliumventures.com/event/london-toy-fair-2023/
LOCATION:Olympia\, London\, United Kingdom
END:VEVENT
BEGIN:VEVENT
DTSTART;VALUE=DATE:20230116
DTEND;VALUE=DATE:20230121
DTSTAMP:20260420T110233
CREATED:20221122T122141Z
LAST-MODIFIED:20221122T122141Z
UID:224236-1673827200-1674259199@galliumventures.com
SUMMARY:World Economic Forum Annual Meeting 2023
DESCRIPTION:The World Economic Forum is the international organisation for public-private cooperation. The Forum engages the foremost political\, business\, cultural and other leaders of society to shape global\, regional and industry agendas. It is independent\, impartial and not tied to any special interests. The Forum strives in all its efforts to demonstrate entrepreneurship in the global public interest while upholding the highest standards of governance. Moral and intellectual integrity is at the heart of everything it does.
URL:https://galliumventures.com/event/world-economic-forum-annual-meeting-2023/
LOCATION:Davos\, Swizerland\, Davos\, Switzerland
END:VEVENT
BEGIN:VEVENT
DTSTART;VALUE=DATE:20230111
DTEND;VALUE=DATE:20230114
DTSTAMP:20260420T110233
CREATED:20221122T130240Z
LAST-MODIFIED:20221122T130240Z
UID:224253-1673395200-1673654399@galliumventures.com
SUMMARY:Crypto Finance Conference St. Moritz 2023
DESCRIPTION:The world’s most relevant digital assets and blockchain conference for sophisticated investors and decision makers. CfC St. Moritz attracts a maximun of 250 carefully selected international investors\, family offices\, funds and decision makers from both the traditional and the new world in the most private and unique setting in the heart of the Swiss Alps. \nFor three days\, opinion leaders and high-ranking representatives from governmental and supranational bodies\, the private sector\, academia and decentralized organizations exchange their knowledge on digital assets\, blockchain and traditional finance. As a part of a well-structured program\, industry leaders have the opportunity to talk about trends\, regulatory changes and new business developments to connect the traditional and the new world.
URL:https://galliumventures.com/event/crypto-finance-conference-st-moritz-2023/
LOCATION:St. Moritz\, Swizerland\, St. Moritz\, Switzerland
END:VEVENT
BEGIN:VEVENT
DTSTART;TZID=Europe/London:20230105T080000
DTEND;TZID=Europe/London:20230108T170000
DTSTAMP:20260420T110233
CREATED:20220511T101407Z
LAST-MODIFIED:20221122T121825Z
UID:23163-1672905600-1673197200@galliumventures.com
SUMMARY:Consumer Electronics Show (CES) 2023
DESCRIPTION:CES brings together all of the biggest players in the consumer tech space. One of the largest trade shows in the US\, this is innovation at its finest.
URL:https://galliumventures.com/event/consumer-electronics-show-ces-2023/
LOCATION:Las Vegas Convention Centre\, 3150 Paradise Rd\, Las Vegas\, Nevada\, 89109\, United States
END:VEVENT
BEGIN:VEVENT
DTSTART;VALUE=DATE:20221206
DTEND;VALUE=DATE:20221209
DTSTAMP:20260420T110233
CREATED:20220630T142125Z
LAST-MODIFIED:20220630T142125Z
UID:224174-1670284800-1670543999@galliumventures.com
SUMMARY:World Congress on Sustainable Technologies 2022
DESCRIPTION:The 12th World Congress on Sustainable Technologies (WCST-2022) will be held online from the 6th to 8th of December\, 2022. The WCST-2022 bridging efforts across the natural\, social and engineering sciences\, the environment and development of communities. The congress covers a wide spectrum of topics that relate to sustainability\, which includes technical and non-technical research areas. It also encourages sharing new knowledge in the field of sustainable technologies and the environmental impacts. The objectives of WCST are to provide the opportunities for collaboration and reflection that have the potential to greatly enhance the infrastructure and capacity for conducting and applying art\, science and technology for sustainability.
URL:https://galliumventures.com/event/world-congress-on-sustainable-technologies-2022/
LOCATION:IL
END:VEVENT
BEGIN:VEVENT
DTSTART;VALUE=DATE:20221201
DTEND;VALUE=DATE:20221203
DTSTAMP:20260420T110233
CREATED:20220630T142031Z
LAST-MODIFIED:20220630T142031Z
UID:224171-1669852800-1670025599@galliumventures.com
SUMMARY:Blockchain Expo 2022 London
DESCRIPTION:The London leg of the Blockchain Expo World Series brings together CTOs\, IT directors\, investors\, VCs\, and other key players for two days of tech exhibits\, panel discussions\, keynotes\, case study presentations\, and more. Topics covered include financial services\, cryptocurrency\, platforms\, applications\, and strategies.
URL:https://galliumventures.com/event/blockchain-expo-2022-london/
LOCATION:Olympia\, London\, United Kingdom
END:VEVENT
BEGIN:VEVENT
DTSTART;VALUE=DATE:20221130
DTEND;VALUE=DATE:20221202
DTSTAMP:20260420T110233
CREATED:20220630T141931Z
LAST-MODIFIED:20220630T141931Z
UID:224168-1669766400-1669939199@galliumventures.com
SUMMARY:FinTech Connect 2022
DESCRIPTION:Join FinTech leaders from the FinTech ecosystem for two content packed days where you can hear from and meet global leaders in digital transformation\, payments\, blockchain and regtech who are driving the global financial technology industry forwards\, all under one roof.
URL:https://galliumventures.com/event/fintech-connect-2022/
LOCATION:ExCel London\, Royal Victoria Dock\, London\, United Kingdom
END:VEVENT
BEGIN:VEVENT
DTSTART;VALUE=DATE:20221117
DTEND;VALUE=DATE:20221119
DTSTAMP:20260420T110233
CREATED:20220630T141810Z
LAST-MODIFIED:20220630T141810Z
UID:224165-1668643200-1668815999@galliumventures.com
SUMMARY:Slush 2022
DESCRIPTION:Slush is bringing the global startup ecosystem under one roof. In cold\, dark November\, a curated group of speakers from across the globe\, showcases\, and unique networking opportunities will all be in Helsinki. With hundreds of Side Events happening across the city throughout the Slush Week\, the fun flows out of Messukeskus and into the streets.
URL:https://galliumventures.com/event/slush-2022/
LOCATION:Holiday Inn Helsinki – Expo\, Messuaukio 1\, Helsinki\, Finland
END:VEVENT
BEGIN:VEVENT
DTSTART;VALUE=DATE:20221109
DTEND;VALUE=DATE:20221111
DTSTAMP:20260420T110233
CREATED:20220630T133615Z
LAST-MODIFIED:20220630T133615Z
UID:224162-1667952000-1668124799@galliumventures.com
SUMMARY:AI in Finance Summit (Toronto)
DESCRIPTION:Discover advances in AI & machine learning tools and techniques from the world’s leading innovators across industry\, research and the financial sector.
URL:https://galliumventures.com/event/ai-in-finance-summit-toronto/
LOCATION:Cowie Court\, Toronto\, Canada
END:VEVENT
BEGIN:VEVENT
DTSTART;VALUE=DATE:20221104
DTEND;VALUE=DATE:20221105
DTSTAMP:20260420T110233
CREATED:20220630T133222Z
LAST-MODIFIED:20220630T133222Z
UID:224159-1667520000-1667606399@galliumventures.com
SUMMARY:Wearable Technology Show 2022
DESCRIPTION:The leading event for wearables and emerging technology. Showcasing technologies across a multitude of fields including – smart home\, healthcare\, fashion\, fitness\, performance sports\, enterprise\, augmented reality\, VR and presents visionary speakers working within the industry to discuss the future of wearables\, smart technology and IOT.
URL:https://galliumventures.com/event/wearable-technology-show-2022/
LOCATION:Business Design Centre\, 52 Upper Street\, London\, United Kingdom
END:VEVENT
BEGIN:VEVENT
DTSTART;VALUE=DATE:20221103
DTEND;VALUE=DATE:20221106
DTSTAMP:20260420T110233
CREATED:20220630T132811Z
LAST-MODIFIED:20220630T132811Z
UID:224156-1667433600-1667692799@galliumventures.com
SUMMARY:ETH San Francisco 2022
DESCRIPTION:Hailed as the West Coast’s premier Ethereum event of 2022\, ETH San Francisco unites blockchain and crypto enthusiasts\, as well as developers\, industry experts\, and tech companies.
URL:https://galliumventures.com/event/eth-san-francisco-2022/
LOCATION:San Francisco\, San Francisco\, CA\, United States
END:VEVENT
BEGIN:VEVENT
DTSTART;VALUE=DATE:20221101
DTEND;VALUE=DATE:20221105
DTSTAMP:20260420T110233
CREATED:20220630T132505Z
LAST-MODIFIED:20220630T132505Z
UID:224153-1667260800-1667606399@galliumventures.com
SUMMARY:Web Summit 2022
DESCRIPTION:Future gazing event that always asks the main question where next in the world of digital. Why attend: The large scale event attracts thousands of attendees and tens of high-profile speakers. Last year’s line-up included Facebook whistleblower Frances Haugen\, Apple’s Craig Federighi and Sir Tim Berners-Lee\, creator of the internet.
URL:https://galliumventures.com/event/web-summit-2022/
LOCATION:Altice Arena & FIL\, Lisbon\, Portugal
END:VEVENT
BEGIN:VEVENT
DTSTART;VALUE=DATE:20221023
DTEND;VALUE=DATE:20221027
DTSTAMP:20260420T110233
CREATED:20220630T132338Z
LAST-MODIFIED:20220630T132338Z
UID:224150-1666483200-1666828799@galliumventures.com
SUMMARY:Money 20/20 2022
DESCRIPTION:The event brings together the world’s leaders in payments\, banking and fintech\, so shouldn’t be missed. Why attend: From in-depth analytics sessions to keynotes from leading lights in the world of money\, this show is the highlight of the year for the fintech industry.
URL:https://galliumventures.com/event/money-20-20-2022/
LOCATION:Las Vegas Convention Centre\, 3150 Paradise Rd\, Las Vegas\, Nevada\, 89109\, United States
END:VEVENT
BEGIN:VEVENT
DTSTART;VALUE=DATE:20221019
DTEND;VALUE=DATE:20221022
DTSTAMP:20260420T110233
CREATED:20220630T131821Z
LAST-MODIFIED:20220630T131821Z
UID:224146-1666137600-1666396799@galliumventures.com
SUMMARY:iNNOVATE Tech Show 2022
DESCRIPTION:iNNOVATE showcases companies including manufacturers\, developers and suppliers of innovative products and services\, content\, technology delivery systems and more. The world needs innovative\, sustainable solutions now more than ever before. It’s time to rethink how purpose-driven organisations connect with an aligned audience committed to creating positive change through business conversations. Discover the latest in AI\, drones\, digital health\, food tech\, automotive tech\, fintech\, retail\, smart home and more. iNNOVATE connects innovators and decision makers providing the ultimate platform for brands in Asia to showcase and launch their latest products and win business.
URL:https://galliumventures.com/event/innovate-tech-show-2022/
LOCATION:Matrade Exhibition and Convention Centre\, Kuala Lumpur\, Malaysia
END:VEVENT
BEGIN:VEVENT
DTSTART;VALUE=DATE:20221018
DTEND;VALUE=DATE:20221022
DTSTAMP:20260420T110233
CREATED:20220630T131621Z
LAST-MODIFIED:20220630T131841Z
UID:224142-1666051200-1666396799@galliumventures.com
SUMMARY:TechCrunch Disrupt 2022
DESCRIPTION:The event where the global startup community comes together each year to discover insights\, to collaborate and celebrate achievements that defined each founder’s journey andfor those yet to come in the future.
URL:https://galliumventures.com/event/techcrunch-disrupt-2022/
LOCATION:Moscone West\, Moscone West\, San Francisco\, CA\, United States
END:VEVENT
BEGIN:VEVENT
DTSTART;VALUE=DATE:20221018
DTEND;VALUE=DATE:20221022
DTSTAMP:20260420T110233
CREATED:20220630T131142Z
LAST-MODIFIED:20220630T131142Z
UID:224138-1666051200-1666396799@galliumventures.com
SUMMARY:CEATEC 2022
DESCRIPTION:CEATEC is a “comprehensive exhibition of Society 5.0” that encompasses all industries and sectors\, showcasing the visions of companies and organizations and new business models in interdisciplinary fields for a future society that utilizes advanced technologies such as CPS/IoT\, robotics and artificial intelligence (AI). CEATEC is a place to communicate the future of technology beyond the boundaries of industry. The CEATEC exhibition space is divided into six main areas. \nThere are “Partners Park”\, “Startup & University” according to the planning objectives and regulations\, “Total Solution”\,”Key Technology”\, “Smart x Industry” for presenting solutions and products\, business negotiations\, and “Online”.
URL:https://galliumventures.com/event/ceatec-2022/
LOCATION:Makuhari Messe\, 2 Chrome-1 Nakase\, Chiba\, Mihama Ward\, Japan
END:VEVENT
BEGIN:VEVENT
DTSTART;VALUE=DATE:20221016
DTEND;VALUE=DATE:20221019
DTSTAMP:20260420T110233
CREATED:20220630T130853Z
LAST-MODIFIED:20220630T130853Z
UID:224134-1665878400-1666137599@galliumventures.com
SUMMARY:Technology & Services World 2022
DESCRIPTION:Immersive learning and networking experience. Why attend: As new business challenges arise and the economy shifts\, TSW delivers relevant technology services\, sales\, channel optimization and product content that will help attendees navigate the changes.
URL:https://galliumventures.com/event/technology-services-world-2022/
LOCATION:Aria Resort and Casino\, Las Vegas Boulevard\, Las Vegas\, NV\, United States
END:VEVENT
BEGIN:VEVENT
DTSTART;VALUE=DATE:20221011
DTEND;VALUE=DATE:20221015
DTSTAMP:20260420T110233
CREATED:20220630T130652Z
LAST-MODIFIED:20220630T130652Z
UID:224131-1665446400-1665791999@galliumventures.com
SUMMARY:Devcon Bogota 2022
DESCRIPTION:Devcon is a conference hosted by the Ethereum Foundation that’s geared toward developers\, researchers\, and movers within the Ethereum ecosystem. Devcon aims to deliver a holistic learning experience through panels\, lighting sessions\, workshops\, and more.
URL:https://galliumventures.com/event/devcon-bogota-2022/
LOCATION:Bogata\, Columbia\, Bogata\, Colombia
END:VEVENT
BEGIN:VEVENT
DTSTART;VALUE=DATE:20221010
DTEND;VALUE=DATE:20221014
DTSTAMP:20260420T110233
CREATED:20220630T130402Z
LAST-MODIFIED:20220630T130433Z
UID:224128-1665360000-1665705599@galliumventures.com
SUMMARY:Fintech Surge 2022
DESCRIPTION:Bringing together global Fintech leaders\, startups and Financial Centers\, Fintech Surge is set to be the Middle East & North Africa’s most impactful and visionary event for the regional Fintech ecosystem. From Digital Banking to Paytech\, Insuretech\, Wealth & Asset management and Regtech\, the event will see the financial industry’s biggest tech-revolutions and path-breaking talks.
URL:https://galliumventures.com/event/fintech-surge-2022/
LOCATION:Dubai WTC\, Dubai World Trade Centre\, Dubai\, United Arab Emirates
END:VEVENT
BEGIN:VEVENT
DTSTART;VALUE=DATE:20221005
DTEND;VALUE=DATE:20221007
DTSTAMP:20260420T110233
CREATED:20220630T125525Z
LAST-MODIFIED:20220630T125525Z
UID:224125-1664928000-1665100799@galliumventures.com
SUMMARY:Blockchain Expo 2022 North America
DESCRIPTION:This technology conference and exhibition focuses on recent developments within the blockchain ecosystem. Other key topics that will be covered by the Blockchain Expo 2022 speakers include tokenization\, blockchain in finance\, and digital currencies\, among other topics. Some of the Expo’s guest speakers include PayPal Director Anita Rao and CasperLabs CTO and Co-founder Medha Parlikar. \nThe Blockchain Expo 2022 is a hybrid event that’s co-located with the Digital Transformation Week\, Edge Computing Expo\, and TechEx events that cover aspects such as IoT\, AI and big data\, and cybersecurity.
URL:https://galliumventures.com/event/blockchain-expo-2022-north-america/
LOCATION:Santa Clara\, Santa Clara\, California\, United Kingdom
END:VEVENT
BEGIN:VEVENT
DTSTART;VALUE=DATE:20221001
DTEND;VALUE=DATE:20221010
DTSTAMP:20260420T110233
CREATED:20220630T125414Z
LAST-MODIFIED:20220630T125414Z
UID:224122-1664582400-1665359999@galliumventures.com
SUMMARY:Melbourne International Games Week 2022
DESCRIPTION:After two years of engaging online audiences across the globe\, Melbourne International Games Week (MIGW) returns to Melbourne from 1-9 October 2022. Now in its 8th year\, MIGW is the biggest games event in Asia Pacific and a fixture on the global calendar\, connecting games\, technology and culture\, with a broad program for industry\, educators\, and game enthusiasts alike.
URL:https://galliumventures.com/event/melbourne-international-games-week-2022/
LOCATION:Melbourne\, Melbourne\, Australia
END:VEVENT
BEGIN:VEVENT
DTSTART;VALUE=DATE:20220928
DTEND;VALUE=DATE:20221001
DTSTAMP:20260420T110233
CREATED:20220621T114121Z
LAST-MODIFIED:20220621T114121Z
UID:224088-1664323200-1664582399@galliumventures.com
SUMMARY:MWC Las Vegas 2022
DESCRIPTION:North America’s largest mobile and connectivity event\, showcasing the hottest trends in connectivity and mobile innovation. It’s where the ecosystem meets face-to-face to build strong relationships\, to discover the latest trends and technology—as well as learn from the thought leaders who guide the industry forward. Why attend: This is where the mobile ecosystem\, technology industry and vertical industries affected by connectivity come to explore the themes that are shaping our world.
URL:https://galliumventures.com/event/mwc-las-vegas-2022-2/
LOCATION:Las Vegas Convention Centre\, 3150 Paradise Rd\, Las Vegas\, Nevada\, 89109\, United States
END:VEVENT
BEGIN:VEVENT
DTSTART;VALUE=DATE:20220928
DTEND;VALUE=DATE:20220930
DTSTAMP:20260420T110233
CREATED:20220621T104646Z
LAST-MODIFIED:20220621T104646Z
UID:224071-1664323200-1664495999@galliumventures.com
SUMMARY:Token2049 Singapore 2022
DESCRIPTION:An offshoot of the global premier crypto event Token2049\, Token2049 Singapore unites crypto pioneers\, early adopters\, investors\, developers\, thought leaders\, and more to bring about “Asia’s Premier Crypto Event.” During this two-day affair\, attendees will take part in activities like meetups\, workshops\, and hackathons to expand their networks and gain a wider perspective on the crypto and blockchain ecosystem. \nListen to some of the world’s leading crypto voices like Tezos Co-founder Kathleen Breitman\, Polygon Co-founder Sandeep Nailwal\, and Binance Head of Investment Bill Qian.
URL:https://galliumventures.com/event/token2049-singapore-2022/
LOCATION:Marina Bay Sands\, Singapore\, Singapore
END:VEVENT
BEGIN:VEVENT
DTSTART;VALUE=DATE:20220927
DTEND;VALUE=DATE:20221001
DTSTAMP:20260420T110233
CREATED:20220621T113249Z
LAST-MODIFIED:20220621T113249Z
UID:224079-1664236800-1664582399@galliumventures.com
SUMMARY:Suite World 2022
DESCRIPTION:The annual conference for the NetSuite community for anyone who wants to tap into the power of the NetSuite ecosystem. Why attend: SuiteWorld is the place to go to get the full download on topics affecting your business and to see how NetSuite can help to make work easier. It’sa one-stop shop to build skills and provides opportunities for networking.
URL:https://galliumventures.com/event/suite-world-2022/
LOCATION:Caesar’s Forum\, Koval Lane\, Las Vegas\, NV\, United States
END:VEVENT
BEGIN:VEVENT
DTSTART;VALUE=DATE:20220923
DTEND;VALUE=DATE:20220925
DTSTAMP:20260420T110233
CREATED:20220621T104800Z
LAST-MODIFIED:20220621T104800Z
UID:224075-1663891200-1664063999@galliumventures.com
SUMMARY:Global Women in Tech Festival 2022
DESCRIPTION:FemTechConf is a female founded tech conference made to empower the women in tech community. Featuring multiple full tracks of fast-paced\, tech talks catered for all levels. With over 30\,000 women in tech and allies joining us at our previous conferences\, and a global community of 75\,000 like-minded professionals\, you’re in good company!
URL:https://galliumventures.com/event/global-women-in-tech-festival-2022/
LOCATION:IL
END:VEVENT
BEGIN:VEVENT
DTSTART;TZID=Europe/London:20220920T080000
DTEND;TZID=Europe/London:20220921T170000
DTSTAMP:20260420T110233
CREATED:20220621T104524Z
LAST-MODIFIED:20220621T104524Z
UID:224068-1663660800-1663779600@galliumventures.com
SUMMARY:Blockchain Expo 2022 Europe
DESCRIPTION:The 2022 Blockchain Expo Europe is a part of the Blockchain World Expo Series. It’s one of Europe’s leading conferences and exhibitions that focus primarily on blockchain and other key topics under the TechEx Europe event\, which includes discussions on or explorations of AI\, big data\, 5G\, cybersecurity\, and IoT ecosystems.
URL:https://galliumventures.com/event/blockchain-expo-2022-europe/
LOCATION:RAI Amsterdam\, Netherlands
END:VEVENT
BEGIN:VEVENT
DTSTART;VALUE=DATE:20220919
DTEND;VALUE=DATE:20220922
DTSTAMP:20260420T110233
CREATED:20220621T104353Z
LAST-MODIFIED:20220621T104353Z
UID:224064-1663545600-1663804799@galliumventures.com
SUMMARY:Digiday Publishing Summit 2022
DESCRIPTION:At the Digiday Publishing Summit you will hear how media companies are building and adapting their business models as we continue to navigate this Covid era. Walk away from this event with a better understanding of how other media organisations are building a more sustainable future.
URL:https://galliumventures.com/event/digiday-publishing-summit-2022/
LOCATION:IL
END:VEVENT
BEGIN:VEVENT
DTSTART;VALUE=DATE:20220919
DTEND;VALUE=DATE:20220921
DTSTAMP:20260420T110233
CREATED:20220621T104235Z
LAST-MODIFIED:20220621T104235Z
UID:224061-1663545600-1663718399@galliumventures.com
SUMMARY:Industry of Things World 2022
DESCRIPTION:Digitalization instead of traditionalization: The diverse\, new\, technological possibilities of Industry 4.0 are increasingly becoming the focus of industrial companies. But what exactly does Industry 4.0 bring to the company? What role do digitization\, networking\, data play? \nAt Industry of Things World Europe more than 450 experts\, decision-makers and providers from industry will discuss use & business cases relating to Industry 4.0.\nLatest technological trends\, opportunities and risks as well as direct practical examples from the manufacturing industry – Industry of Things World is designed to evaluate and discuss your technology strategy for a scalable\, secure and efficient IIoT implementation around your production & your products.
URL:https://galliumventures.com/event/industry-of-things-world-2022/
LOCATION:Titanic Chaussee\, Berlin\, Germany
END:VEVENT
END:VCALENDAR