BEGIN:VCALENDAR
VERSION:2.0
PRODID:-//Gallium Ventures - ECPv6.15.20//NONSGML v1.0//EN
CALSCALE:GREGORIAN
METHOD:PUBLISH
X-WR-CALNAME:Gallium Ventures
X-ORIGINAL-URL:https://galliumventures.com
X-WR-CALDESC:Events for Gallium Ventures
REFRESH-INTERVAL;VALUE=DURATION:PT1H
X-Robots-Tag:noindex
X-PUBLISHED-TTL:PT1H
BEGIN:VTIMEZONE
TZID:Africa/Abidjan
BEGIN:STANDARD
TZOFFSETFROM:+0000
TZOFFSETTO:+0000
TZNAME:GMT
DTSTART:20250101T000000
END:STANDARD
END:VTIMEZONE
BEGIN:VEVENT
DTSTART;VALUE=DATE:20260422
DTEND;VALUE=DATE:20260524
DTSTAMP:20260425T174727
CREATED:20251126T144813Z
LAST-MODIFIED:20251126T150308Z
UID:231305-1776816000-1779580799@galliumventures.com
SUMMARY:HackSummit 2026
DESCRIPTION:Europe’s largest gathering of Climate Funders\, Founders\, LPs and Operators
URL:https://galliumventures.com/event/hacksummit-2026/
LOCATION:Beaulieu Congress Center\, Avenue Bergières 10\, Switzerland
END:VEVENT
BEGIN:VEVENT
DTSTART;VALUE=DATE:20260511
DTEND;VALUE=DATE:20260513
DTSTAMP:20260425T174727
CREATED:20251126T144852Z
LAST-MODIFIED:20251126T152241Z
UID:231316-1778457600-1778630399@galliumventures.com
SUMMARY:Gartner IT Infrastructure\, Operations & Cloud Strategies Conference 2026 Sydney
DESCRIPTION:The principal focus of this event highlights innovation through leveraging trends\, strategizing to achieve mission-critical priorities\, and exploring the latest technologies.
URL:https://galliumventures.com/event/gartner-it-infrastructure-operations-cloud-strategies-conference-2026-sydney/
LOCATION:Hilton Sydney\, 488 George Street\, Sydney\, Australia
END:VEVENT
BEGIN:VEVENT
DTSTART;VALUE=DATE:20260511
DTEND;VALUE=DATE:20260515
DTSTAMP:20260425T174727
CREATED:20251126T144933Z
LAST-MODIFIED:20251126T152258Z
UID:231326-1778457600-1778803199@galliumventures.com
SUMMARY:Red Hat Summit 2026
DESCRIPTION:Red Hat® Summit and AnsibleFest is back\, bringing IT professionals\, enterprise leaders\, partners\, and open source enthusiasts together.
URL:https://galliumventures.com/event/red-hat-summit-2026/
LOCATION:GEORGIA WORLD CONGRESS CENTER\, 285 Andrew Young Boulevard NW\, Atlanta\, GA\, United States
END:VEVENT
BEGIN:VEVENT
DTSTART;VALUE=DATE:20260511
DTEND;VALUE=DATE:20260515
DTSTAMP:20260425T174727
CREATED:20251126T144934Z
LAST-MODIFIED:20251126T152416Z
UID:231330-1778457600-1778803199@galliumventures.com
SUMMARY:Websummit Vancouver 2026
DESCRIPTION:In May 2025\, thousands of international entrepreneurs\, investors\, media outlets\, and leaders will gather in Vancouver at our newest event: Web Summit Vancouver.
URL:https://galliumventures.com/event/websummit-vancouver-2026/
LOCATION:Vancouver Convention Centre\, 1055 Canada Pl\, Vancouver\, British Columbia\, V6C 0C3\, Canada
END:VEVENT
BEGIN:VEVENT
DTSTART;VALUE=DATE:20260512
DTEND;VALUE=DATE:20260514
DTSTAMP:20260425T174727
CREATED:20251126T144830Z
LAST-MODIFIED:20251126T152544Z
UID:231315-1778544000-1778716799@galliumventures.com
SUMMARY:Women of The Channel West 2026
DESCRIPTION:This one-of-a-kind\, engaging conference offers female channel and IT executives an opportunity to advance their skills\, network with peers and be inspired by the women making a significant impact on the IT channel and industry today.
URL:https://galliumventures.com/event/women-of-the-channel-west-2026/
LOCATION:Omni La Costa Resort & Spa\, 2100 Costa Del Mar Rd\, Carlsbad\, CA\, 92009\, United States
END:VEVENT
BEGIN:VEVENT
DTSTART;VALUE=DATE:20260512
DTEND;VALUE=DATE:20260515
DTSTAMP:20260425T174727
CREATED:20251126T144852Z
LAST-MODIFIED:20251126T152636Z
UID:231317-1778544000-1778803199@galliumventures.com
SUMMARY:SaaStr Annual 2026
DESCRIPTION:The Annual is the largest non-vendor confab in the world\, uniting the global SaaS community both online and off.
URL:https://galliumventures.com/event/saastr-annual-2026/
LOCATION:San Mateo County Events Center\, 1346 Saratoga Dr\, San Mateo\, CA\, 94403\, United States
END:VEVENT
BEGIN:VEVENT
DTSTART;VALUE=DATE:20260512
DTEND;VALUE=DATE:20260515
DTSTAMP:20260425T174727
CREATED:20251126T144933Z
LAST-MODIFIED:20251126T152739Z
UID:231327-1778544000-1778803199@galliumventures.com
SUMMARY:The Future of Digital Commerce 2026
DESCRIPTION:The global 2-day conference will feature over 300 speakers covering the latest trends\, market disruptors and technologies shaping the payments\, fintech\, retail and e-commerce world.
URL:https://galliumventures.com/event/the-future-of-digital-commerce-2026/
LOCATION:Dubai WTC\, Dubai World Trade Centre\, Dubai\, United Arab Emirates
END:VEVENT
BEGIN:VEVENT
DTSTART;VALUE=DATE:20260512
DTEND;VALUE=DATE:20260516
DTSTAMP:20260425T174727
CREATED:20251126T144934Z
LAST-MODIFIED:20251126T152807Z
UID:231328-1778544000-1778889599@galliumventures.com
SUMMARY:Women in Tech Global Conference 2026
DESCRIPTION:It is the largest conference for women in tech\, minorities\, and allies worldwide. The conference features live educational & training content\, keynotes\, engaging panels\, breakout rooms\, technical workshops\, and networking opportunities. It is for software engineers\, product managers\, designers\, data scientists\, tech business managers\, tech professionals\, startups\, digital agencies\, consulting firms\, and more.
URL:https://galliumventures.com/event/women-in-tech-global-conference-2026/
LOCATION:Online
END:VEVENT
END:VCALENDAR