BEGIN:VCALENDAR
VERSION:2.0
PRODID:-//Gallium Ventures - ECPv6.15.20//NONSGML v1.0//EN
CALSCALE:GREGORIAN
METHOD:PUBLISH
X-ORIGINAL-URL:https://galliumventures.com
X-WR-CALDESC:Events for Gallium Ventures
REFRESH-INTERVAL;VALUE=DURATION:PT1H
X-Robots-Tag:noindex
X-PUBLISHED-TTL:PT1H
BEGIN:VTIMEZONE
TZID:Africa/Abidjan
BEGIN:STANDARD
TZOFFSETFROM:+0000
TZOFFSETTO:+0000
TZNAME:GMT
DTSTART:20250101T000000
END:STANDARD
END:VTIMEZONE
BEGIN:VEVENT
DTSTART;VALUE=DATE:20260422
DTEND;VALUE=DATE:20260524
DTSTAMP:20260423T233212
CREATED:20251126T144813Z
LAST-MODIFIED:20251126T150308Z
UID:231305-1776816000-1779580799@galliumventures.com
SUMMARY:HackSummit 2026
DESCRIPTION:Europe’s largest gathering of Climate Funders\, Founders\, LPs and Operators
URL:https://galliumventures.com/event/hacksummit-2026/
LOCATION:Beaulieu Congress Center\, Avenue Bergières 10\, Switzerland
END:VEVENT
BEGIN:VEVENT
DTSTART;VALUE=DATE:20260427
DTEND;VALUE=DATE:20260429
DTSTAMP:20260423T233212
CREATED:20251126T144825Z
LAST-MODIFIED:20251126T150356Z
UID:231306-1777248000-1777420799@galliumventures.com
SUMMARY:Digital Healthcare Innovation Summit 2026
DESCRIPTION:Join leading healthcare innovators and investors at the Digital Healthcare Innovation Summit (DHIS) in Boston\, MA. We’ll examine timely topics\, such as direct-to-consumer healthcare\, underserved populations\, important regulatory or policy changes\, distributed vs. centralized care\, women’s health\, IaaS and IoT in healthcare\, and more. Catch lively panels\, take part in interactive breakouts\, and network with industry leaders in this tight community. Investors\, startups & emerging companies\, tech companies\, payers\, providers\, and veteran advisors will all be attending
URL:https://galliumventures.com/event/digital-healthcare-innovation-summit-2026/
LOCATION:Seaport Hotel\, 1 Seaport Ln\, Boston\, MA\, 02210\, United States
END:VEVENT
BEGIN:VEVENT
DTSTART;VALUE=DATE:20260427
DTEND;VALUE=DATE:20260430
DTSTAMP:20260423T233212
CREATED:20251028T151603Z
LAST-MODIFIED:20251028T155012Z
UID:231201-1777248000-1777507199@galliumventures.com
SUMMARY:Running Remote 2026
DESCRIPTION:Join the premier conference for distributed and hybrid teams. Every year\, hundreds of companies from around the globe attend our three-day live event to discuss the latest strategies & learn from industry leaders on flexible work\, company culture\, scaling\, transitioning\, AI and more. \nAttend our next event in-person and network with C-Level Executives\, Founders\, VPs and HR leaders.
URL:https://galliumventures.com/event/running-remote-2026/
LOCATION:Fair Market\, 100 E 5th St.\, Austin\, TX\, 78702\, United States
END:VEVENT
BEGIN:VEVENT
DTSTART;VALUE=DATE:20260427
DTEND;VALUE=DATE:20260430
DTSTAMP:20260423T233212
CREATED:20251028T151758Z
LAST-MODIFIED:20251028T155043Z
UID:231202-1777248000-1777507199@galliumventures.com
SUMMARY:Startup Grind Conference 2026
DESCRIPTION:Startup Grind is the largest independent startup community\, actively educating\, inspiring\, and connecting 400\,000 founders in over 200 cities. The conference will convene in Silicon Valley\, welcoming curious startup teams from around the world to learn and explore four challenges every startup faces: fundraising\, sales\, marketing\, and product.
URL:https://galliumventures.com/event/startup-grind-conference-2026/
LOCATION:Silicon Valley\, San Francisco\, CA\, United States
END:VEVENT
BEGIN:VEVENT
DTSTART;VALUE=DATE:20260427
DTEND;VALUE=DATE:20260430
DTSTAMP:20260423T233212
CREATED:20251028T151759Z
LAST-MODIFIED:20251028T155157Z
UID:231203-1777248000-1777507199@galliumventures.com
SUMMARY:Women in Retail Leadership Summit 2026
DESCRIPTION:In its 12th year\, the Women in Retail Leadership Summit has evolved from an event into a movement. We’re breaking barriers\, challenging stereotypes\, and creating an environment that empowers women across the retail landscape. \nThis invitation-only event is designed for women in leadership positions at top retailers and brands who want to learn\, network\, and improve their business acumen. You’ll experience dynamic presentations and inspirational keynotes that cover everything from leadership development to staying at the forefront of retail technology.
URL:https://galliumventures.com/event/women-in-retail-leadership-summit-2026/
LOCATION:JW Marriott Miami Turnberry Resort & Spa\, 19999 W Country Club Dr\, Aventura\, FL\, 33180\, United States
END:VEVENT
END:VCALENDAR