BEGIN:VCALENDAR
VERSION:2.0
PRODID:-//Gallium Ventures - ECPv6.15.20//NONSGML v1.0//EN
CALSCALE:GREGORIAN
METHOD:PUBLISH
X-WR-CALNAME:Gallium Ventures
X-ORIGINAL-URL:https://galliumventures.com
X-WR-CALDESC:Events for Gallium Ventures
REFRESH-INTERVAL;VALUE=DURATION:PT1H
X-Robots-Tag:noindex
X-PUBLISHED-TTL:PT1H
BEGIN:VTIMEZONE
TZID:Africa/Abidjan
BEGIN:STANDARD
TZOFFSETFROM:+0000
TZOFFSETTO:+0000
TZNAME:GMT
DTSTART:20250101T000000
END:STANDARD
END:VTIMEZONE
BEGIN:VEVENT
DTSTART;VALUE=DATE:20260418
DTEND;VALUE=DATE:20260423
DTSTAMP:20260421T120617
CREATED:20251028T151559Z
LAST-MODIFIED:20251028T152620Z
UID:231192-1776470400-1776902399@galliumventures.com
SUMMARY:NAB Show 2026
DESCRIPTION:With more scale\, more innovation and more international reach than any other event in the content economy\, NAB Show is the must-attend marketplace for media and entertainment.
URL:https://galliumventures.com/event/nab-show-2026/
LOCATION:Las Vegas Convention Centre\, 3150 Paradise Rd\, Las Vegas\, Nevada\, 89109\, United States
END:VEVENT
BEGIN:VEVENT
DTSTART;VALUE=DATE:20260419
DTEND;VALUE=DATE:20260423
DTSTAMP:20260421T120617
CREATED:20251028T151559Z
LAST-MODIFIED:20251028T152741Z
UID:231193-1776556800-1776902399@galliumventures.com
SUMMARY:Adobe Summit 2026
DESCRIPTION:Be front row for the future of customer experience. Get inspired by innovators from the world’s top brands\, connect with other leaders\, and explore what’s next in generative AI and personalization at scale. If you can’t attend the live event in Las Vegas\, join us online from anywhere. Explore sessions.
URL:https://galliumventures.com/event/adobe-summit-2026/
LOCATION:The Venetian\, Las Vegas\, NV\, United States
END:VEVENT
BEGIN:VEVENT
DTSTART;VALUE=DATE:20260420
DTEND;VALUE=DATE:20260423
DTSTAMP:20260421T120617
CREATED:20251028T151600Z
LAST-MODIFIED:20251028T153414Z
UID:231196-1776643200-1776902399@galliumventures.com
SUMMARY:Modern Retail Marketing Summit 2026
DESCRIPTION:At the annual Modern Retail Summit\, we will look at all of the aspects that ladder up to building not only a successful marketing operation but a brand with staying power.
URL:https://galliumventures.com/event/modern-retail-marketing-summit-2026/
LOCATION:Hyatt Regency Huntington Beach\, 21500 Pacific Coast Hwy\, Huntington Beach\, CA\, 92648\, United States
END:VEVENT
BEGIN:VEVENT
DTSTART;VALUE=DATE:20260420
DTEND;VALUE=DATE:20260424
DTSTAMP:20260421T120617
CREATED:20251028T151600Z
LAST-MODIFIED:20251028T153735Z
UID:231194-1776643200-1776988799@galliumventures.com
SUMMARY:Data Center World 2026
DESCRIPTION:Data Center World welcomes data center professionals\, technology business leaders\, and digital industry innovators to an exhibition encompassing insight and strategies to plan\, manage\, and optimize data centers.
URL:https://galliumventures.com/event/data-center-world-2026/
LOCATION:Walter E. Washington Convention Center\, Washington\, DC\, United States
END:VEVENT
BEGIN:VEVENT
DTSTART;VALUE=DATE:20260421
DTEND;VALUE=DATE:20260424
DTSTAMP:20260421T120617
CREATED:20251126T144813Z
LAST-MODIFIED:20251126T150239Z
UID:231304-1776729600-1776988799@galliumventures.com
SUMMARY:TradeTech Europe 2026
DESCRIPTION:Europe’s leading buy-side heads of equity training share practical insights on navigating the changing UK and EU regulatory landscape to improve liquidity access\, building a flexible and resilient trading desk\, and leveraging the latest innovative analytics.
URL:https://galliumventures.com/event/tradetech-europe-2026/
LOCATION:RAI Amsterdam\, Netherlands
END:VEVENT
BEGIN:VEVENT
DTSTART;VALUE=DATE:20260421
DTEND;VALUE=DATE:20260425
DTSTAMP:20260421T120617
CREATED:20251028T151602Z
LAST-MODIFIED:20251028T154523Z
UID:231197-1776729600-1777075199@galliumventures.com
SUMMARY:Global Marketer Week 2026
DESCRIPTION:WFA Global Marketer Week 2026 is taking place in Stockholm\, Sweden. Join us for another week of learning\, inspiration and discovery with the greatest minds of the marketing industry
URL:https://galliumventures.com/event/global-marketer-week-2026/
LOCATION:Grand Hotel Stockholm\, Södra Blasieholmshamnen 8\, Stockholm\, 103 27\, Sweden
END:VEVENT
END:VCALENDAR