BEGIN:VCALENDAR
VERSION:2.0
PRODID:-//Gallium Ventures - ECPv6.15.20//NONSGML v1.0//EN
CALSCALE:GREGORIAN
METHOD:PUBLISH
X-ORIGINAL-URL:https://galliumventures.com
X-WR-CALDESC:Events for Gallium Ventures
REFRESH-INTERVAL;VALUE=DURATION:PT1H
X-Robots-Tag:noindex
X-PUBLISHED-TTL:PT1H
BEGIN:VTIMEZONE
TZID:Africa/Abidjan
BEGIN:STANDARD
TZOFFSETFROM:+0000
TZOFFSETTO:+0000
TZNAME:GMT
DTSTART:20250101T000000
END:STANDARD
END:VTIMEZONE
BEGIN:VTIMEZONE
TZID:Europe/London
BEGIN:DAYLIGHT
TZOFFSETFROM:+0000
TZOFFSETTO:+0100
TZNAME:BST
DTSTART:20250330T010000
END:DAYLIGHT
BEGIN:STANDARD
TZOFFSETFROM:+0100
TZOFFSETTO:+0000
TZNAME:GMT
DTSTART:20251026T010000
END:STANDARD
BEGIN:DAYLIGHT
TZOFFSETFROM:+0000
TZOFFSETTO:+0100
TZNAME:BST
DTSTART:20260329T010000
END:DAYLIGHT
BEGIN:STANDARD
TZOFFSETFROM:+0100
TZOFFSETTO:+0000
TZNAME:GMT
DTSTART:20261025T010000
END:STANDARD
BEGIN:DAYLIGHT
TZOFFSETFROM:+0000
TZOFFSETTO:+0100
TZNAME:BST
DTSTART:20270328T010000
END:DAYLIGHT
BEGIN:STANDARD
TZOFFSETFROM:+0100
TZOFFSETTO:+0000
TZNAME:GMT
DTSTART:20271031T010000
END:STANDARD
END:VTIMEZONE
BEGIN:VEVENT
DTSTART;VALUE=DATE:20260323
DTEND;VALUE=DATE:20260325
DTSTAMP:20260423T234407
CREATED:20250924T114100Z
LAST-MODIFIED:20250924T122206Z
UID:231064-1774224000-1774396799@galliumventures.com
SUMMARY:Gartner CIO Leadership Forum  2026
DESCRIPTION:This event is exclusive to the CIO community in enterprise-wide\, business\, and regional sectors.
URL:https://galliumventures.com/event/gartner-cio-leadership-forum-2026-2/
LOCATION:Intercontinental O2\, 1 Waterview Dr\, London\, United Kingdom
END:VEVENT
BEGIN:VEVENT
DTSTART;VALUE=DATE:20260323
DTEND;VALUE=DATE:20260325
DTSTAMP:20260423T234407
CREATED:20250924T114150Z
LAST-MODIFIED:20250924T123659Z
UID:231077-1774224000-1774396799@galliumventures.com
SUMMARY:eMerge Americas 2026
DESCRIPTION:The eMerge Americas annual conference + expo connects innovators\, investors\, industry experts\, and changemakers from around the globe at the place to discover the future of tech. Explore AI\, healthtech\, fintech\, and so much more across six revolutionary stages.
URL:https://galliumventures.com/event/emerge-americas-2026/
LOCATION:Miami Beach Convention Center\, 1901 Convention Ctr Dr\, Miami Beach\, FL\, 33139\, United States
END:VEVENT
BEGIN:VEVENT
DTSTART;VALUE=DATE:20260323
DTEND;VALUE=DATE:20260327
DTSTAMP:20260423T234407
CREATED:20250924T114100Z
LAST-MODIFIED:20250924T123720Z
UID:231063-1774224000-1774569599@galliumventures.com
SUMMARY:SATShow 2026
DESCRIPTION:The event promotes forward thinking and growth in global satellite and space ecosystems with business\, technological\, and collaborative opportunities.
URL:https://galliumventures.com/event/satshow-2026/
LOCATION:Walter E. Washington Convention Center\, Washington\, DC\, United States
END:VEVENT
BEGIN:VEVENT
DTSTART;VALUE=DATE:20260323
DTEND;VALUE=DATE:20260327
DTSTAMP:20260423T234407
CREATED:20251028T151543Z
LAST-MODIFIED:20251126T145452Z
UID:231182-1774224000-1774569599@galliumventures.com
SUMMARY:CloudNativeCon and KubeCon Europe 2026
DESCRIPTION:The Cloud Native Computing Foundation’s flagship conference brings together adopters and technologists from leading open source and cloud native communities in Amsterdam\, Netherlands from 23-26 March\, 2026. Be a part of the conversation as CNCF Graduated\, Incubating\, and Sandbox Projects unite for four days of collaboration\, learning\, and innovation to drive the future of cloud native computing
URL:https://galliumventures.com/event/cloudnativecon-and-kubecon-europe-2026/
LOCATION:RIA Amsterdam\, Amsterdam\, Netherlands
END:VEVENT
BEGIN:VEVENT
DTSTART;VALUE=DATE:20260323
DTEND;VALUE=DATE:20260327
DTSTAMP:20260423T234407
CREATED:20251028T151544Z
LAST-MODIFIED:20251028T151544Z
UID:231186-1774224000-1774569599@galliumventures.com
SUMMARY:RSA Conference 2026
DESCRIPTION:The event brings the cybersecurity industry together to share knowledge\, ideas\, success stories and examine failures to strengthen the community.
URL:https://galliumventures.com/event/rsa-conference-2026/
END:VEVENT
BEGIN:VEVENT
DTSTART;VALUE=DATE:20260324
DTEND;VALUE=DATE:20260326
DTSTAMP:20260423T234407
CREATED:20250924T114126Z
LAST-MODIFIED:20250924T123740Z
UID:231074-1774310400-1774483199@galliumventures.com
SUMMARY:The Economist's 6th annual Business Innovation Summit 2026
DESCRIPTION:Empowering business leaders to innovate and seize growth opportunities with AI and other emerging technologies\nThis summit brought together senior executives from diverse industries and disciplines—including strategy\, technology\, operations and data—to explore the value of AI on workforce operations\, profitability\, new revenue models and business strategies.
URL:https://galliumventures.com/event/the-economists-6th-annual-business-innovation-summit-2026/
LOCATION:Convene London\, London\, United Kingdom
END:VEVENT
BEGIN:VEVENT
DTSTART;VALUE=DATE:20260324
DTEND;VALUE=DATE:20260327
DTSTAMP:20260423T234407
CREATED:20251028T151544Z
LAST-MODIFIED:20251126T144811Z
UID:231183-1774310400-1774569599@galliumventures.com
SUMMARY:Advertising Week EU 2026
DESCRIPTION:At Advertising Week we thrive on the big conversations and we are gearing up for more. Mark your diary\, save the date\, block out the time because we’ll be back at 180 Studios with the ultimate mashup of content for marketing\, media\, creative and tech professionals.
URL:https://galliumventures.com/event/advertising-week-eu-2026/
END:VEVENT
END:VCALENDAR