BEGIN:VCALENDAR
VERSION:2.0
PRODID:-//Gallium Ventures - ECPv6.15.20//NONSGML v1.0//EN
CALSCALE:GREGORIAN
METHOD:PUBLISH
X-ORIGINAL-URL:https://galliumventures.com
X-WR-CALDESC:Events for Gallium Ventures
REFRESH-INTERVAL;VALUE=DURATION:PT1H
X-Robots-Tag:noindex
X-PUBLISHED-TTL:PT1H
BEGIN:VTIMEZONE
TZID:Africa/Abidjan
BEGIN:STANDARD
TZOFFSETFROM:+0000
TZOFFSETTO:+0000
TZNAME:GMT
DTSTART:20250101T000000
END:STANDARD
END:VTIMEZONE
BEGIN:VEVENT
DTSTART;VALUE=DATE:20260319
DTEND;VALUE=DATE:20260321
DTSTAMP:20260423T234412
CREATED:20250924T114046Z
LAST-MODIFIED:20250924T122148Z
UID:231057-1773878400-1774051199@galliumventures.com
SUMMARY:EmTech Digital 2026
DESCRIPTION:In a time when the future is arriving faster than ever\, EmTech Europe 2026 brings together the world’s leading minds to explore how emerging technologies are moving from breakthrough to real-world impact. Curated by MIT Technology Review and hosted in the birthplace of reason and progress\, this conference will focus on what innovation means today and how it will shape the near future of business\, policy\, and society.
URL:https://galliumventures.com/event/emtech-digital-2026/
LOCATION:Athens Concert Hall\, Βασιλίσσης Σοφίας\, Petrou Kokkali &\, Athens\, Greece
END:VEVENT
END:VCALENDAR