BEGIN:VCALENDAR
VERSION:2.0
PRODID:-//Gallium Ventures - ECPv6.15.20//NONSGML v1.0//EN
CALSCALE:GREGORIAN
METHOD:PUBLISH
X-ORIGINAL-URL:https://galliumventures.com
X-WR-CALDESC:Events for Gallium Ventures
REFRESH-INTERVAL;VALUE=DURATION:PT1H
X-Robots-Tag:noindex
X-PUBLISHED-TTL:PT1H
BEGIN:VTIMEZONE
TZID:Africa/Abidjan
BEGIN:STANDARD
TZOFFSETFROM:+0000
TZOFFSETTO:+0000
TZNAME:GMT
DTSTART:20250101T000000
END:STANDARD
END:VTIMEZONE
BEGIN:VEVENT
DTSTART;VALUE=DATE:20260304
DTEND;VALUE=DATE:20260307
DTSTAMP:20260423T234417
CREATED:20250924T114045Z
LAST-MODIFIED:20250924T115747Z
UID:231056-1772582400-1772841599@galliumventures.com
SUMMARY:Devnexus 2026
DESCRIPTION:Devnexus is the largest and longest-running Java ecosystem conference in the U.S. and a leading global tech event. Founded by the Atlanta Java Users Group in 2004\, it draws 1500+ developers for two or three days of hands-on workshops\, expert-led sessions\, in-person mentoring by Java Champions and speakers\, and live demos. With 10 tracks and 100+ sessions\, Devnexus offers deep dives into the latest technologies and a chance to connect with top technologists and fellow developers.
URL:https://galliumventures.com/event/devnexus-2026/
LOCATION:GEORGIA WORLD CONGRESS CENTER\, 285 Andrew Young Boulevard NW\, Atlanta\, GA\, United States
END:VEVENT
END:VCALENDAR