BEGIN:VCALENDAR
VERSION:2.0
PRODID:-//Gallium Ventures - ECPv6.15.20//NONSGML v1.0//EN
CALSCALE:GREGORIAN
METHOD:PUBLISH
X-WR-CALNAME:Gallium Ventures
X-ORIGINAL-URL:https://galliumventures.com
X-WR-CALDESC:Events for Gallium Ventures
REFRESH-INTERVAL;VALUE=DURATION:PT1H
X-Robots-Tag:noindex
X-PUBLISHED-TTL:PT1H
BEGIN:VTIMEZONE
TZID:Africa/Abidjan
BEGIN:STANDARD
TZOFFSETFROM:+0000
TZOFFSETTO:+0000
TZNAME:GMT
DTSTART:20240101T000000
END:STANDARD
END:VTIMEZONE
BEGIN:VTIMEZONE
TZID:Europe/London
BEGIN:DAYLIGHT
TZOFFSETFROM:+0000
TZOFFSETTO:+0100
TZNAME:BST
DTSTART:20240331T010000
END:DAYLIGHT
BEGIN:STANDARD
TZOFFSETFROM:+0100
TZOFFSETTO:+0000
TZNAME:GMT
DTSTART:20241027T010000
END:STANDARD
BEGIN:DAYLIGHT
TZOFFSETFROM:+0000
TZOFFSETTO:+0100
TZNAME:BST
DTSTART:20250330T010000
END:DAYLIGHT
BEGIN:STANDARD
TZOFFSETFROM:+0100
TZOFFSETTO:+0000
TZNAME:GMT
DTSTART:20251026T010000
END:STANDARD
BEGIN:DAYLIGHT
TZOFFSETFROM:+0000
TZOFFSETTO:+0100
TZNAME:BST
DTSTART:20260329T010000
END:DAYLIGHT
BEGIN:STANDARD
TZOFFSETFROM:+0100
TZOFFSETTO:+0000
TZNAME:GMT
DTSTART:20261025T010000
END:STANDARD
END:VTIMEZONE
BEGIN:VEVENT
DTSTART;VALUE=DATE:20250618
DTEND;VALUE=DATE:20250621
DTSTAMP:20260423T093753
CREATED:20250108T121107Z
LAST-MODIFIED:20250108T135945Z
UID:229916-1750204800-1750463999@galliumventures.com
SUMMARY:2025 IEEE Transportation Electrification Conference & Expo
DESCRIPTION:For more than 10 years\, ITEC has served as IEEE’s premier conference on transportation electrification\, fostering connections between industry and academia.
URL:https://galliumventures.com/event/2025-ieee-transportation-electrification-conference-expo/
LOCATION:Anaheim Marriot\, Anaheim\, CA\, United States
END:VEVENT
BEGIN:VEVENT
DTSTART;VALUE=DATE:20250619
DTEND;VALUE=DATE:20250621
DTSTAMP:20260423T093753
CREATED:20250228T124701Z
LAST-MODIFIED:20250228T124701Z
UID:230252-1750291200-1750463999@galliumventures.com
SUMMARY:The Next Web 2025
DESCRIPTION:Bringing together great content and great people in an incredible setting\, The Next Web’s unrivalled feeling of intimacy guarantees amazing business learnings and an awesome time.
URL:https://galliumventures.com/event/the-next-web-2025/
LOCATION:NDSM\, Amsterdam\, NDSM-Plein 90C\, Amsterdam\, 1033 WB\, Netherlands
END:VEVENT
BEGIN:VEVENT
DTSTART;VALUE=DATE:20250619
DTEND;VALUE=DATE:20250622
DTSTAMP:20260423T093753
CREATED:20250108T121107Z
LAST-MODIFIED:20250108T140023Z
UID:229917-1750291200-1750550399@galliumventures.com
SUMMARY:VidCon Anaheim 2025
DESCRIPTION:puts digital culture center stage as the world’s leading digital creators\, platform innovators\, and their fans converge in one place.
URL:https://galliumventures.com/event/vidcon-anaheim-2025/
LOCATION:Anaheim Covention Center\, 800 W Katella Ave\, Anaheim\, CA\, 92802\, United States
END:VEVENT
END:VCALENDAR