BEGIN:VCALENDAR
VERSION:2.0
PRODID:-//Gallium Ventures - ECPv6.15.20//NONSGML v1.0//EN
CALSCALE:GREGORIAN
METHOD:PUBLISH
X-ORIGINAL-URL:https://galliumventures.com
X-WR-CALDESC:Events for Gallium Ventures
REFRESH-INTERVAL;VALUE=DURATION:PT1H
X-Robots-Tag:noindex
X-PUBLISHED-TTL:PT1H
BEGIN:VTIMEZONE
TZID:Europe/London
BEGIN:DAYLIGHT
TZOFFSETFROM:+0000
TZOFFSETTO:+0100
TZNAME:BST
DTSTART:20240331T010000
END:DAYLIGHT
BEGIN:STANDARD
TZOFFSETFROM:+0100
TZOFFSETTO:+0000
TZNAME:GMT
DTSTART:20241027T010000
END:STANDARD
BEGIN:DAYLIGHT
TZOFFSETFROM:+0000
TZOFFSETTO:+0100
TZNAME:BST
DTSTART:20250330T010000
END:DAYLIGHT
BEGIN:STANDARD
TZOFFSETFROM:+0100
TZOFFSETTO:+0000
TZNAME:GMT
DTSTART:20251026T010000
END:STANDARD
BEGIN:DAYLIGHT
TZOFFSETFROM:+0000
TZOFFSETTO:+0100
TZNAME:BST
DTSTART:20260329T010000
END:DAYLIGHT
BEGIN:STANDARD
TZOFFSETFROM:+0100
TZOFFSETTO:+0000
TZNAME:GMT
DTSTART:20261025T010000
END:STANDARD
END:VTIMEZONE
BEGIN:VTIMEZONE
TZID:Africa/Abidjan
BEGIN:STANDARD
TZOFFSETFROM:+0000
TZOFFSETTO:+0000
TZNAME:GMT
DTSTART:20240101T000000
END:STANDARD
END:VTIMEZONE
BEGIN:VEVENT
DTSTART;TZID=Europe/London:20250512T000000
DTEND;TZID=Europe/London:20250513T000000
DTSTAMP:20260423T093824
CREATED:20250227T143739Z
LAST-MODIFIED:20250228T122154Z
UID:230174-1747008000-1747094400@galliumventures.com
SUMMARY:Reuters Digital Health 2025
DESCRIPTION:Reuters Events Digital Health 2025 (12-13 May\, Nashville) is the definitive gathering for senior digital\, technology\, and IT healthcare executives to revitalize the health system. A dedicated program of proven case studies\, focused interactive sessions and collaborative networking opportunities will arm you with practical insights and actionable strategies\, field-tested by your industry peers.
URL:https://galliumventures.com/event/reuters-digital-health-2025/
LOCATION:Nashville\, TN\, United States
END:VEVENT
BEGIN:VEVENT
DTSTART;VALUE=DATE:20250512
DTEND;VALUE=DATE:20250514
DTSTAMP:20260423T093824
CREATED:20241127T143621Z
LAST-MODIFIED:20241127T145029Z
UID:229812-1747008000-1747180799@galliumventures.com
SUMMARY:Techspo Chicago 2025
DESCRIPTION:Showcasing the next generation of technology & innovation; Internet\, Mobile\, AdTech\, MarTech & SaaS Technology\, Exhibitors have the opportunity to show off their companies to consumers\, the highest caliber investors\, hordes of press\, the most sought after talent\, and the greatest pool of tech enthusiasts looking to celebrate emerging products.
URL:https://galliumventures.com/event/techspo-chicago-2025/
LOCATION:Chicago\, Chicago\, IL\, United States
END:VEVENT
END:VCALENDAR