BEGIN:VCALENDAR
VERSION:2.0
PRODID:-//Gallium Ventures - ECPv6.15.20//NONSGML v1.0//EN
CALSCALE:GREGORIAN
METHOD:PUBLISH
X-ORIGINAL-URL:https://galliumventures.com
X-WR-CALDESC:Events for Gallium Ventures
REFRESH-INTERVAL;VALUE=DURATION:PT1H
X-Robots-Tag:noindex
X-PUBLISHED-TTL:PT1H
BEGIN:VTIMEZONE
TZID:Europe/London
BEGIN:DAYLIGHT
TZOFFSETFROM:+0000
TZOFFSETTO:+0100
TZNAME:BST
DTSTART:20230326T010000
END:DAYLIGHT
BEGIN:STANDARD
TZOFFSETFROM:+0100
TZOFFSETTO:+0000
TZNAME:GMT
DTSTART:20231029T010000
END:STANDARD
BEGIN:DAYLIGHT
TZOFFSETFROM:+0000
TZOFFSETTO:+0100
TZNAME:BST
DTSTART:20240331T010000
END:DAYLIGHT
BEGIN:STANDARD
TZOFFSETFROM:+0100
TZOFFSETTO:+0000
TZNAME:GMT
DTSTART:20241027T010000
END:STANDARD
BEGIN:DAYLIGHT
TZOFFSETFROM:+0000
TZOFFSETTO:+0100
TZNAME:BST
DTSTART:20250330T010000
END:DAYLIGHT
BEGIN:STANDARD
TZOFFSETFROM:+0100
TZOFFSETTO:+0000
TZNAME:GMT
DTSTART:20251026T010000
END:STANDARD
END:VTIMEZONE
BEGIN:VEVENT
DTSTART;TZID=Europe/London:20241111T000000
DTEND;TZID=Europe/London:20241114T000000
DTSTAMP:20260425T142615
CREATED:20240626T092804Z
LAST-MODIFIED:20240626T110040Z
UID:225433-1731283200-1731542400@galliumventures.com
SUMMARY:Web Summit 2024
DESCRIPTION:Politico has said they run “the world’s premier tech conference”\, the Atlantic that Web Summit is “where the future goes to be born”\, and the New York Times that they assemble “a grand conclave of the tech industry’s high priests”.\nAt a time of great uncertainty for many industries and\, indeed\, the world itself\, we gather policymakers\, heads of state\, and the founders and CEOs of technology companies and fast-growing startups\, to ask a simple question: Where to next?
URL:https://galliumventures.com/event/web-summit-2024/
LOCATION:Lisbon\, Portugal
END:VEVENT
END:VCALENDAR