BEGIN:VCALENDAR
VERSION:2.0
PRODID:-//Gallium Ventures - ECPv6.15.20//NONSGML v1.0//EN
CALSCALE:GREGORIAN
METHOD:PUBLISH
X-ORIGINAL-URL:https://galliumventures.com
X-WR-CALDESC:Events for Gallium Ventures
REFRESH-INTERVAL;VALUE=DURATION:PT1H
X-Robots-Tag:noindex
X-PUBLISHED-TTL:PT1H
BEGIN:VTIMEZONE
TZID:Africa/Abidjan
BEGIN:STANDARD
TZOFFSETFROM:+0000
TZOFFSETTO:+0000
TZNAME:GMT
DTSTART:20230101T000000
END:STANDARD
END:VTIMEZONE
BEGIN:VEVENT
DTSTART;VALUE=DATE:20240929
DTEND;VALUE=DATE:20241002
DTSTAMP:20260420T131345
CREATED:20240227T150219Z
LAST-MODIFIED:20240626T101734Z
UID:225262-1727568000-1727827199@galliumventures.com
SUMMARY:Bits & Pretzels HealthTech 2024
DESCRIPTION:Get ready to unite with the greatest minds in HealthTech! From Pharma and Tech Giants\, to MedTech professionals and Policymakers- Bits & Pretzels HealthTech is bringing them all together.
URL:https://galliumventures.com/event/bits-pretzels-healthtech-2024/
LOCATION:Munich\, Germany
END:VEVENT
END:VCALENDAR