BEGIN:VCALENDAR
VERSION:2.0
PRODID:-//Gallium Ventures - ECPv6.15.20//NONSGML v1.0//EN
CALSCALE:GREGORIAN
METHOD:PUBLISH
X-WR-CALNAME:Gallium Ventures
X-ORIGINAL-URL:https://galliumventures.com
X-WR-CALDESC:Events for Gallium Ventures
REFRESH-INTERVAL;VALUE=DURATION:PT1H
X-Robots-Tag:noindex
X-PUBLISHED-TTL:PT1H
BEGIN:VTIMEZONE
TZID:Africa/Abidjan
BEGIN:STANDARD
TZOFFSETFROM:+0000
TZOFFSETTO:+0000
TZNAME:GMT
DTSTART:20230101T000000
END:STANDARD
END:VTIMEZONE
BEGIN:VEVENT
DTSTART;VALUE=DATE:20240318
DTEND;VALUE=DATE:20240323
DTSTAMP:20260420T132836
CREATED:20231129T115154Z
LAST-MODIFIED:20231129T152019Z
UID:224965-1710720000-1711151999@galliumventures.com
SUMMARY:GDC 2024
DESCRIPTION:The Game Developers Conference (GDC) brings the game development community together to exchange ideas\, solve problems\, and shape the future of the industry across five days of education\, inspiration\, and networking.
URL:https://galliumventures.com/event/gdc-2024/
LOCATION:Moscone Center\, San Francisco\, CA\, United States
END:VEVENT
BEGIN:VEVENT
DTSTART;VALUE=DATE:20240321
DTEND;VALUE=DATE:20240325
DTSTAMP:20260420T132836
CREATED:20231129T115210Z
LAST-MODIFIED:20231129T143445Z
UID:224969-1710979200-1711324799@galliumventures.com
SUMMARY:PAX East 2024
DESCRIPTION:PAX East is a celebration of gaming and gaming culture featuring thought-provoking panels\, a massive expo hall filled with the best publishers and studios\, new game demos\, musical performances\, tournaments\, and a community experience unlike any other.
URL:https://galliumventures.com/event/pax-east-2024/
LOCATION:Boston Convention & Exhibition Center\, 415 SUMMER STREET\, BOSTON\, United States
END:VEVENT
BEGIN:VEVENT
DTSTART;VALUE=DATE:20240321
DTEND;VALUE=DATE:20240323
DTSTAMP:20260420T132836
CREATED:20231129T115210Z
LAST-MODIFIED:20231129T143257Z
UID:224970-1710979200-1711151999@galliumventures.com
SUMMARY:Hello Tomorrow Global Summit 2024
DESCRIPTION:A gathering of all industries and technologies for a deep tech exhibition. Some industry examples are aerospace\, digital health\, energy\, environment\, advanced computing\, autonomous machines\, sustainable construction\, and more. Discussions will include regenerative buildings & manufacturing\, energy transition\, clean mobility\, healthcare revolutions\, accelerating decarbonization\, and more.
URL:https://galliumventures.com/event/hello-tomorrow-2024/
LOCATION:Paris\, Paris\, France
END:VEVENT
END:VCALENDAR