BEGIN:VCALENDAR
VERSION:2.0
PRODID:-//Gallium Ventures - ECPv6.15.20//NONSGML v1.0//EN
CALSCALE:GREGORIAN
METHOD:PUBLISH
X-WR-CALNAME:Gallium Ventures
X-ORIGINAL-URL:https://galliumventures.com
X-WR-CALDESC:Events for Gallium Ventures
REFRESH-INTERVAL;VALUE=DURATION:PT1H
X-Robots-Tag:noindex
X-PUBLISHED-TTL:PT1H
BEGIN:VTIMEZONE
TZID:Europe/London
BEGIN:DAYLIGHT
TZOFFSETFROM:+0000
TZOFFSETTO:+0100
TZNAME:BST
DTSTART:20230326T010000
END:DAYLIGHT
BEGIN:STANDARD
TZOFFSETFROM:+0100
TZOFFSETTO:+0000
TZNAME:GMT
DTSTART:20231029T010000
END:STANDARD
BEGIN:DAYLIGHT
TZOFFSETFROM:+0000
TZOFFSETTO:+0100
TZNAME:BST
DTSTART:20240331T010000
END:DAYLIGHT
BEGIN:STANDARD
TZOFFSETFROM:+0100
TZOFFSETTO:+0000
TZNAME:GMT
DTSTART:20241027T010000
END:STANDARD
BEGIN:DAYLIGHT
TZOFFSETFROM:+0000
TZOFFSETTO:+0100
TZNAME:BST
DTSTART:20250330T010000
END:DAYLIGHT
BEGIN:STANDARD
TZOFFSETFROM:+0100
TZOFFSETTO:+0000
TZNAME:GMT
DTSTART:20251026T010000
END:STANDARD
END:VTIMEZONE
BEGIN:VEVENT
DTSTART;VALUE=DATE:20240211
DTEND;VALUE=DATE:20240214
DTSTAMP:20260419T135023
CREATED:20231129T115109Z
LAST-MODIFIED:20231129T123802Z
UID:224950-1707609600-1707868799@galliumventures.com
SUMMARY:Geo Week 2024
DESCRIPTION:The event aims to integrate\, educate\, and network business professionals for digitizing workflows and breaking down silos between disciplines. Integration focuses include the built environment\, similar conferences\, commercial 3D technologies\, and advanced airborne/terrestrial technologies.
URL:https://galliumventures.com/event/geo-week-2024/
LOCATION:Colorado Convention Center\, 700 14th St\, Denver\, CO\, United States
END:VEVENT
END:VCALENDAR