BEGIN:VCALENDAR
VERSION:2.0
PRODID:-//Gallium Ventures - ECPv6.15.20//NONSGML v1.0//EN
CALSCALE:GREGORIAN
METHOD:PUBLISH
X-WR-CALNAME:Gallium Ventures
X-ORIGINAL-URL:https://galliumventures.com
X-WR-CALDESC:Events for Gallium Ventures
REFRESH-INTERVAL;VALUE=DURATION:PT1H
X-Robots-Tag:noindex
X-PUBLISHED-TTL:PT1H
BEGIN:VTIMEZONE
TZID:Europe/London
BEGIN:DAYLIGHT
TZOFFSETFROM:+0000
TZOFFSETTO:+0100
TZNAME:BST
DTSTART:20230326T010000
END:DAYLIGHT
BEGIN:STANDARD
TZOFFSETFROM:+0100
TZOFFSETTO:+0000
TZNAME:GMT
DTSTART:20231029T010000
END:STANDARD
BEGIN:DAYLIGHT
TZOFFSETFROM:+0000
TZOFFSETTO:+0100
TZNAME:BST
DTSTART:20240331T010000
END:DAYLIGHT
BEGIN:STANDARD
TZOFFSETFROM:+0100
TZOFFSETTO:+0000
TZNAME:GMT
DTSTART:20241027T010000
END:STANDARD
BEGIN:DAYLIGHT
TZOFFSETFROM:+0000
TZOFFSETTO:+0100
TZNAME:BST
DTSTART:20250330T010000
END:DAYLIGHT
BEGIN:STANDARD
TZOFFSETFROM:+0100
TZOFFSETTO:+0000
TZNAME:GMT
DTSTART:20251026T010000
END:STANDARD
END:VTIMEZONE
BEGIN:VEVENT
DTSTART;VALUE=DATE:20240128
DTEND;VALUE=DATE:20240130
DTSTAMP:20260420T120133
CREATED:20231129T115053Z
LAST-MODIFIED:20231129T123740Z
UID:224945-1706400000-1706572799@galliumventures.com
SUMMARY:DEVGAMM GDAŃSK 2024
DESCRIPTION:Large expo with new projects from game publishers and developers
URL:https://galliumventures.com/event/devgamm-gdansk-2024/
LOCATION:AmberExpo\, Żaglowa 11\, Gdansk\, Poland
END:VEVENT
BEGIN:VEVENT
DTSTART;VALUE=DATE:20240129
DTEND;VALUE=DATE:20240201
DTSTAMP:20260420T120133
CREATED:20231129T115054Z
LAST-MODIFIED:20231129T123746Z
UID:224946-1706486400-1706745599@galliumventures.com
SUMMARY:Opex Week 2024
DESCRIPTION:Opex Week promotes business transformation in support of decision-makers and transformation leaders. Areas of focus include readiness for cultural change\, innovative ideas\, leading transformation\, rethinking structure and capabilities\, and more.
URL:https://galliumventures.com/event/opex-week-2024/
LOCATION:Hyatt Regency Miami\, 400 SE 2nd Ave\, Miami\, FL\, United States
END:VEVENT
END:VCALENDAR