BEGIN:VCALENDAR
VERSION:2.0
PRODID:-//Gallium Ventures - ECPv6.15.20//NONSGML v1.0//EN
CALSCALE:GREGORIAN
METHOD:PUBLISH
X-WR-CALNAME:Gallium Ventures
X-ORIGINAL-URL:https://galliumventures.com
X-WR-CALDESC:Events for Gallium Ventures
REFRESH-INTERVAL;VALUE=DURATION:PT1H
X-Robots-Tag:noindex
X-PUBLISHED-TTL:PT1H
BEGIN:VTIMEZONE
TZID:Europe/London
BEGIN:DAYLIGHT
TZOFFSETFROM:+0000
TZOFFSETTO:+0100
TZNAME:BST
DTSTART:20230326T010000
END:DAYLIGHT
BEGIN:STANDARD
TZOFFSETFROM:+0100
TZOFFSETTO:+0000
TZNAME:GMT
DTSTART:20231029T010000
END:STANDARD
BEGIN:DAYLIGHT
TZOFFSETFROM:+0000
TZOFFSETTO:+0100
TZNAME:BST
DTSTART:20240331T010000
END:DAYLIGHT
BEGIN:STANDARD
TZOFFSETFROM:+0100
TZOFFSETTO:+0000
TZNAME:GMT
DTSTART:20241027T010000
END:STANDARD
BEGIN:DAYLIGHT
TZOFFSETFROM:+0000
TZOFFSETTO:+0100
TZNAME:BST
DTSTART:20250330T010000
END:DAYLIGHT
BEGIN:STANDARD
TZOFFSETFROM:+0100
TZOFFSETTO:+0000
TZNAME:GMT
DTSTART:20251026T010000
END:STANDARD
END:VTIMEZONE
BEGIN:VEVENT
DTSTART;VALUE=DATE:20240123
DTEND;VALUE=DATE:20240126
DTSTAMP:20260422T101404
CREATED:20231129T115224Z
LAST-MODIFIED:20231129T123716Z
UID:224975-1705968000-1706227199@galliumventures.com
SUMMARY:London Toy Fair 2024
DESCRIPTION:The Toy Fair is the UK’s largest dedicated toy\, game and hobby trade show taking place annually at the end of January at Olympia London. The toy industry’s showcase welcomes more than 250 companies exhibiting thousands of products to visitors including retailers\, buyers\, media and the wider industry.
URL:https://galliumventures.com/event/london-toy-fair-2024/
LOCATION:Olympia\, London\, United Kingdom
END:VEVENT
BEGIN:VEVENT
DTSTART;VALUE=DATE:20240124
DTEND;VALUE=DATE:20240127
DTSTAMP:20260422T101404
CREATED:20231129T115053Z
LAST-MODIFIED:20231129T123723Z
UID:224944-1706054400-1706313599@galliumventures.com
SUMMARY:Startup Day 2024
DESCRIPTION:The event brings together start-up-minded people to celebrate entrepreneurship. Company areas include gaming\, mobility\, agriculture\, manufacturing\, software solutions\, aerospace\, and more. The event includes educational stage programs\, hands-on seminars\, a large demo area\, international pitching competitions\, workshops\, organized matchmaking\, side events\, and more
URL:https://galliumventures.com/event/startup-day-2024/
LOCATION:University of Tartu Academic Sports Club\, Tartu\, Estonia
END:VEVENT
BEGIN:VEVENT
DTSTART;VALUE=DATE:20240125
DTEND;VALUE=DATE:20240129
DTSTAMP:20260422T101404
CREATED:20231129T115053Z
LAST-MODIFIED:20231129T123728Z
UID:224943-1706140800-1706486399@galliumventures.com
SUMMARY:Taipei Game Show 2024
DESCRIPTION:Taiwan’s largest gaming exhibition. The goal of the Taipei Game Show is to provide a platform for both domestic and foreign game developers and publishers to showcase their work and offer the best gaming experience to attendees.
URL:https://galliumventures.com/event/taipei-game-show-2024/
LOCATION:Taipei Nangang Exhibition Center\, No. 1\, Jingmao 2nd Rd\, Nangang District\,\, Taipei City\, Taiwan
END:VEVENT
BEGIN:VEVENT
DTSTART;VALUE=DATE:20240125
DTEND;VALUE=DATE:20240129
DTSTAMP:20260422T101404
CREATED:20231129T115324Z
LAST-MODIFIED:20231129T123734Z
UID:224993-1706140800-1706486399@galliumventures.com
SUMMARY:NAMM 2024
DESCRIPTION:NAMM is the music\, sound\, and event industry’s trade association. As your association\, we work to grow the industry and support music-making worldwide.
URL:https://galliumventures.com/event/namm-2024/
LOCATION:Anaheim Covention Center\, 800 W Katella Ave\, Anaheim\, CA\, 92802\, United States
END:VEVENT
END:VCALENDAR