BEGIN:VCALENDAR
VERSION:2.0
PRODID:-//Gallium Ventures - ECPv6.15.20//NONSGML v1.0//EN
CALSCALE:GREGORIAN
METHOD:PUBLISH
X-ORIGINAL-URL:https://galliumventures.com
X-WR-CALDESC:Events for Gallium Ventures
REFRESH-INTERVAL;VALUE=DURATION:PT1H
X-Robots-Tag:noindex
X-PUBLISHED-TTL:PT1H
BEGIN:VTIMEZONE
TZID:Africa/Abidjan
BEGIN:STANDARD
TZOFFSETFROM:+0000
TZOFFSETTO:+0000
TZNAME:GMT
DTSTART:20230101T000000
END:STANDARD
END:VTIMEZONE
BEGIN:VTIMEZONE
TZID:Europe/London
BEGIN:DAYLIGHT
TZOFFSETFROM:+0000
TZOFFSETTO:+0100
TZNAME:BST
DTSTART:20230326T010000
END:DAYLIGHT
BEGIN:STANDARD
TZOFFSETFROM:+0100
TZOFFSETTO:+0000
TZNAME:GMT
DTSTART:20231029T010000
END:STANDARD
BEGIN:DAYLIGHT
TZOFFSETFROM:+0000
TZOFFSETTO:+0100
TZNAME:BST
DTSTART:20240331T010000
END:DAYLIGHT
BEGIN:STANDARD
TZOFFSETFROM:+0100
TZOFFSETTO:+0000
TZNAME:GMT
DTSTART:20241027T010000
END:STANDARD
BEGIN:DAYLIGHT
TZOFFSETFROM:+0000
TZOFFSETTO:+0100
TZNAME:BST
DTSTART:20250330T010000
END:DAYLIGHT
BEGIN:STANDARD
TZOFFSETFROM:+0100
TZOFFSETTO:+0000
TZNAME:GMT
DTSTART:20251026T010000
END:STANDARD
END:VTIMEZONE
BEGIN:VEVENT
DTSTART;VALUE=DATE:20240109
DTEND;VALUE=DATE:20240113
DTSTAMP:20260420T120513
CREATED:20231129T115050Z
LAST-MODIFIED:20231129T124953Z
UID:224939-1704758400-1705103999@galliumventures.com
SUMMARY:CES 2024
DESCRIPTION:The CES 2024 – Consumer Electronics Show brings together developers\, Manufacturers and suppliers of consumer technology content\, hardware and technology delivery systems and related products and services as well as retailers\, manufacturers\, broadband developers\, content providers and creators\, cable and satellite TV providers\, wireless carriers\, engineers\, installers\, government leaders\, corporate buyers\, the media and financial analysts.
URL:https://galliumventures.com/event/ces-2024/
LOCATION:Las Vegas\, NV\, United States
END:VEVENT
BEGIN:VEVENT
DTSTART;VALUE=DATE:20240111
DTEND;VALUE=DATE:20240113
DTSTAMP:20260420T120513
CREATED:20231129T115050Z
LAST-MODIFIED:20231129T123656Z
UID:224940-1704931200-1705103999@galliumventures.com
SUMMARY:Ethical Games 2024
DESCRIPTION:Ethical Games is a two-day\, single-track online conference and special issue with ACM Games aiming to bring together game academics to advance the debate on ethical design\, development\, and live operation of digital games with the long-term goal of providing concrete recommendations.
URL:https://galliumventures.com/event/ethical-games-2024/
LOCATION:Online
END:VEVENT
END:VCALENDAR