BEGIN:VCALENDAR
VERSION:2.0
PRODID:-//Gallium Ventures - ECPv6.15.20//NONSGML v1.0//EN
CALSCALE:GREGORIAN
METHOD:PUBLISH
X-WR-CALNAME:Gallium Ventures
X-ORIGINAL-URL:https://galliumventures.com
X-WR-CALDESC:Events for Gallium Ventures
REFRESH-INTERVAL;VALUE=DURATION:PT1H
X-Robots-Tag:noindex
X-PUBLISHED-TTL:PT1H
BEGIN:VTIMEZONE
TZID:Africa/Abidjan
BEGIN:STANDARD
TZOFFSETFROM:+0000
TZOFFSETTO:+0000
TZNAME:GMT
DTSTART:20220101T000000
END:STANDARD
END:VTIMEZONE
BEGIN:VEVENT
DTSTART;VALUE=DATE:20231024
DTEND;VALUE=DATE:20231027
DTSTAMP:20260422T112753
CREATED:20230530T114216Z
LAST-MODIFIED:20230530T115719Z
UID:224691-1698105600-1698364799@galliumventures.com
SUMMARY:European Blockchain Convention 2023
DESCRIPTION:“The European Blockchain Convention is one of Europe’s most influential crypto and blockchain events\, bringing together over 1\,000 attendees. During this three-day event\, participants will have the opportunity to meet with thought leaders and innovators who are shaking up and reshaping the finance\, crypto\, and blockchain industries. Aside from panels\, keynotes\, workshops\, and talks about crypto and blockchain\, the event also covers DeFi\, NFTs\, and Web3.\nSpeakers include The Sandbox COO and Co-founder Sebastien Borget and TRON DAO Blockchain Advisor Laurent Perello.”
URL:https://galliumventures.com/event/european-blockchain-convention-2023/
LOCATION:Barcelona\, Spain
END:VEVENT
BEGIN:VEVENT
DTSTART;VALUE=DATE:20231024
DTEND;VALUE=DATE:20231027
DTSTAMP:20260422T112753
CREATED:20230530T114219Z
LAST-MODIFIED:20230530T115817Z
UID:224692-1698105600-1698364799@galliumventures.com
SUMMARY:Trends Brasil - Rio de Janeiro 2023
DESCRIPTION:Trends Brasil Conference 8th Edition in Rio de Janeiro is confirmed and will take place on October 24 – 26\, 2023. This International Conference gathers professionals from the most different areas of the music business. From musicians and performers to DSPs and PROs\, distributors\, publishers\, producers and record companies. Debates\, key notes\, workshops\, one-on-one meetings and showcases. The best marketplace in Brazil to increment your network\, learn and do business.
URL:https://galliumventures.com/event/trends-brasil-rio-de-janeiro-2023/
LOCATION:Centro Cultural Light\, Rio de Janiero\, Brazil
END:VEVENT
END:VCALENDAR