BEGIN:VCALENDAR
VERSION:2.0
PRODID:-//Gallium Ventures - ECPv6.15.20//NONSGML v1.0//EN
CALSCALE:GREGORIAN
METHOD:PUBLISH
X-ORIGINAL-URL:https://galliumventures.com
X-WR-CALDESC:Events for Gallium Ventures
REFRESH-INTERVAL;VALUE=DURATION:PT1H
X-Robots-Tag:noindex
X-PUBLISHED-TTL:PT1H
BEGIN:VTIMEZONE
TZID:Africa/Abidjan
BEGIN:STANDARD
TZOFFSETFROM:+0000
TZOFFSETTO:+0000
TZNAME:GMT
DTSTART:20220101T000000
END:STANDARD
END:VTIMEZONE
BEGIN:VEVENT
DTSTART;VALUE=DATE:20231015
DTEND;VALUE=DATE:20231023
DTSTAMP:20260422T111138
CREATED:20230530T114200Z
LAST-MODIFIED:20230530T115133Z
UID:224686-1697328000-1698019199@galliumventures.com
SUMMARY:SXSW Sydney 2023
DESCRIPTION:From a grassroots start in Austin TX\, 1987 to a new\, second home in Sydney.SXSW Sydney 2023 is a week-long event that will see the Asia-Pacific’s pre-eminent creative industries converge across content pillars of Tech and Innovation\, Gaming\, Music\, Screen\, and Culture within a future-focused program.
URL:https://galliumventures.com/event/sxsw-sydney/
LOCATION:Sydney\, Australia
END:VEVENT
BEGIN:VEVENT
DTSTART;VALUE=DATE:20231016
DTEND;VALUE=DATE:20231020
DTSTAMP:20260422T111138
CREATED:20230530T114203Z
LAST-MODIFIED:20230530T115248Z
UID:224687-1697414400-1697759999@galliumventures.com
SUMMARY:Suite World 2023
DESCRIPTION:The annual conference for the NetSuite community for anyone who wants to tap into the power of the  NetSuite ecosystem. Why attend: SuiteWorld is the place to go to get the full download on topics affecting your business and to see how NetSuite can help to make work easier. It’sa one-stop shop to build skills and  provides opportunities for networking.
URL:https://galliumventures.com/event/suite-world-2023/
LOCATION:Caesars Forum\, Las Vegas\, NV\, United States
END:VEVENT
END:VCALENDAR