BEGIN:VCALENDAR
VERSION:2.0
PRODID:-//Gallium Ventures - ECPv6.15.20//NONSGML v1.0//EN
CALSCALE:GREGORIAN
METHOD:PUBLISH
X-WR-CALNAME:Gallium Ventures
X-ORIGINAL-URL:https://galliumventures.com
X-WR-CALDESC:Events for Gallium Ventures
REFRESH-INTERVAL;VALUE=DURATION:PT1H
X-Robots-Tag:noindex
X-PUBLISHED-TTL:PT1H
BEGIN:VTIMEZONE
TZID:Africa/Abidjan
BEGIN:STANDARD
TZOFFSETFROM:+0000
TZOFFSETTO:+0000
TZNAME:GMT
DTSTART:20220101T000000
END:STANDARD
END:VTIMEZONE
BEGIN:VEVENT
DTSTART;VALUE=DATE:20231010
DTEND;VALUE=DATE:20231014
DTSTAMP:20260422T112717
CREATED:20230530T114146Z
LAST-MODIFIED:20230530T114842Z
UID:224682-1696896000-1697241599@galliumventures.com
SUMMARY:Mondo NYC 2023
DESCRIPTION:Mondo is New York’s Annual Music\, Arts & Technology Business Conference & Showcase Festival. Celebrating its eighth anniversary\, Mondo.NYC brings together its global community of music\, arts and tech industry insiders and innovators\, emerging artists and their fans.
URL:https://galliumventures.com/event/mondo-nyc-2023/
LOCATION:The Williamsburg Hotel\, Brooklyn\, NY\, United States
END:VEVENT
END:VCALENDAR