BEGIN:VCALENDAR
VERSION:2.0
PRODID:-//Gallium Ventures - ECPv6.15.20//NONSGML v1.0//EN
CALSCALE:GREGORIAN
METHOD:PUBLISH
X-ORIGINAL-URL:https://galliumventures.com
X-WR-CALDESC:Events for Gallium Ventures
REFRESH-INTERVAL;VALUE=DURATION:PT1H
X-Robots-Tag:noindex
X-PUBLISHED-TTL:PT1H
BEGIN:VTIMEZONE
TZID:Africa/Abidjan
BEGIN:STANDARD
TZOFFSETFROM:+0000
TZOFFSETTO:+0000
TZNAME:GMT
DTSTART:20220101T000000
END:STANDARD
END:VTIMEZONE
BEGIN:VEVENT
DTSTART;VALUE=DATE:20230929
DTEND;VALUE=DATE:20230930
DTSTAMP:20260422T111119
CREATED:20230525T121023Z
LAST-MODIFIED:20230530T112630Z
UID:224624-1695945600-1696031999@galliumventures.com
SUMMARY:Reframe Women in Tech 2023
DESCRIPTION:Our mission to make women in tech conferences is spreading its wings as we continue our pledge to create accessibility for all with our not-for-profit event\, for and run by a community of like-minded people.
URL:https://galliumventures.com/event/reframe-women-in-tech-2023/
LOCATION:Convene London\, London\, United Kingdom
END:VEVENT
END:VCALENDAR